BEGIN:VCALENDAR
VERSION:2.0
PRODID:-//Bryant PTSA - ECPv6.15.20//NONSGML v1.0//EN
CALSCALE:GREGORIAN
METHOD:PUBLISH
X-ORIGINAL-URL:https://www.bryantschool.org
X-WR-CALDESC:Events for Bryant PTSA
REFRESH-INTERVAL;VALUE=DURATION:PT1H
X-Robots-Tag:noindex
X-PUBLISHED-TTL:PT1H
BEGIN:VTIMEZONE
TZID:America/Los_Angeles
BEGIN:DAYLIGHT
TZOFFSETFROM:-0800
TZOFFSETTO:-0700
TZNAME:PDT
DTSTART:20220313T100000
END:DAYLIGHT
BEGIN:STANDARD
TZOFFSETFROM:-0700
TZOFFSETTO:-0800
TZNAME:PST
DTSTART:20221106T090000
END:STANDARD
BEGIN:DAYLIGHT
TZOFFSETFROM:-0800
TZOFFSETTO:-0700
TZNAME:PDT
DTSTART:20230312T100000
END:DAYLIGHT
BEGIN:STANDARD
TZOFFSETFROM:-0700
TZOFFSETTO:-0800
TZNAME:PST
DTSTART:20231105T090000
END:STANDARD
BEGIN:DAYLIGHT
TZOFFSETFROM:-0800
TZOFFSETTO:-0700
TZNAME:PDT
DTSTART:20240310T100000
END:DAYLIGHT
BEGIN:STANDARD
TZOFFSETFROM:-0700
TZOFFSETTO:-0800
TZNAME:PST
DTSTART:20241103T090000
END:STANDARD
END:VTIMEZONE
BEGIN:VEVENT
DTSTART;VALUE=DATE:20230320
DTEND;VALUE=DATE:20230329
DTSTAMP:20260423T145159
CREATED:20230320T194137Z
LAST-MODIFIED:20230320T194137Z
UID:5069-1679270400-1680047999@www.bryantschool.org
SUMMARY:Online Auction Begins
DESCRIPTION:
URL:https://www.bryantschool.org/event/online-auction-begins/
END:VEVENT
BEGIN:VEVENT
DTSTART;TZID=America/Los_Angeles:20230326T140000
DTEND;TZID=America/Los_Angeles:20230326T150000
DTSTAMP:20260423T145159
CREATED:20230315T045149Z
LAST-MODIFIED:20230315T053948Z
UID:5012-1679839200-1679842800@www.bryantschool.org
SUMMARY:Bryant Play: Lion King
DESCRIPTION:We are thrilled to announce the return of the Bryant Play. You are invited to The Lion King Kids presented by 4th and 5th grade student performers. Both casts and parent volunteers have been hard at work with Seattle’s Performers and are excited to bring this musical to the stage for our entire Bryant community to enjoy. Tickets are $5 and will be sold at the door – CASH ONLY. There’s also a bake sale at each show at intermission – CASH ONLY.  \nDoors open 30 minutes before showtime.  The show runs approximately 1 hour.
URL:https://www.bryantschool.org/event/bryant-play-lion-king-4/
LOCATION:Bryant cafeteria
ATTACH;FMTTYPE=image/jpeg:https://www.bryantschool.org/wp-content/uploads/2023/03/Lion-King-Digital-Poster-1.jpg
END:VEVENT
END:VCALENDAR