BEGIN:VCALENDAR
VERSION:2.0
PRODID:-//Bryant PTSA - ECPv6.15.20//NONSGML v1.0//EN
CALSCALE:GREGORIAN
METHOD:PUBLISH
X-ORIGINAL-URL:https://www.bryantschool.org
X-WR-CALDESC:Events for Bryant PTSA
REFRESH-INTERVAL;VALUE=DURATION:PT1H
X-Robots-Tag:noindex
X-PUBLISHED-TTL:PT1H
BEGIN:VTIMEZONE
TZID:America/Los_Angeles
BEGIN:DAYLIGHT
TZOFFSETFROM:-0800
TZOFFSETTO:-0700
TZNAME:PDT
DTSTART:20220313T100000
END:DAYLIGHT
BEGIN:STANDARD
TZOFFSETFROM:-0700
TZOFFSETTO:-0800
TZNAME:PST
DTSTART:20221106T090000
END:STANDARD
BEGIN:DAYLIGHT
TZOFFSETFROM:-0800
TZOFFSETTO:-0700
TZNAME:PDT
DTSTART:20230312T100000
END:DAYLIGHT
BEGIN:STANDARD
TZOFFSETFROM:-0700
TZOFFSETTO:-0800
TZNAME:PST
DTSTART:20231105T090000
END:STANDARD
BEGIN:DAYLIGHT
TZOFFSETFROM:-0800
TZOFFSETTO:-0700
TZNAME:PDT
DTSTART:20240310T100000
END:DAYLIGHT
BEGIN:STANDARD
TZOFFSETFROM:-0700
TZOFFSETTO:-0800
TZNAME:PST
DTSTART:20241103T090000
END:STANDARD
END:VTIMEZONE
BEGIN:VEVENT
DTSTART;VALUE=DATE:20230524
DTEND;VALUE=DATE:20230526
DTSTAMP:20260423T102917
CREATED:20230516T230207Z
LAST-MODIFIED:20230516T230207Z
UID:5227-1684886400-1685059199@www.bryantschool.org
SUMMARY:Bike to School Days
DESCRIPTION:May is Bike to School Month! \nLater this month\, we’ll have morning pop-up tables to celebrate students walking/rolling/biking to school! Tables will have snacks and walking/biking incentives for students who visit on their way to Bryant. \nA reminder will be sent next week with times and locations. Please save these dates:\nWednesday\, May 24th (north of Bryant)\nThursday\, May 25th (south of Bryant) \nThese tables will be near the building and everyone is welcome to visit.\nWe know not everyone is able to walk or bike to school in the morning\, and we welcome other ways for students to participate! Some ideas include parking further away and walking a couple blocks to the building\, biking after school\, or having biking/scooter/skating/rollerblading time on the weekend!
URL:https://www.bryantschool.org/event/bike-to-school-days-2023-may/
END:VEVENT
END:VCALENDAR