BEGIN:VCALENDAR
VERSION:2.0
PRODID:-//Bryant PTSA - ECPv6.15.20//NONSGML v1.0//EN
CALSCALE:GREGORIAN
METHOD:PUBLISH
X-WR-CALNAME:Bryant PTSA
X-ORIGINAL-URL:https://www.bryantschool.org
X-WR-CALDESC:Events for Bryant PTSA
REFRESH-INTERVAL;VALUE=DURATION:PT1H
X-Robots-Tag:noindex
X-PUBLISHED-TTL:PT1H
BEGIN:VTIMEZONE
TZID:America/Los_Angeles
BEGIN:DAYLIGHT
TZOFFSETFROM:-0800
TZOFFSETTO:-0700
TZNAME:PDT
DTSTART:20220313T100000
END:DAYLIGHT
BEGIN:STANDARD
TZOFFSETFROM:-0700
TZOFFSETTO:-0800
TZNAME:PST
DTSTART:20221106T090000
END:STANDARD
BEGIN:DAYLIGHT
TZOFFSETFROM:-0800
TZOFFSETTO:-0700
TZNAME:PDT
DTSTART:20230312T100000
END:DAYLIGHT
BEGIN:STANDARD
TZOFFSETFROM:-0700
TZOFFSETTO:-0800
TZNAME:PST
DTSTART:20231105T090000
END:STANDARD
BEGIN:DAYLIGHT
TZOFFSETFROM:-0800
TZOFFSETTO:-0700
TZNAME:PDT
DTSTART:20240310T100000
END:DAYLIGHT
BEGIN:STANDARD
TZOFFSETFROM:-0700
TZOFFSETTO:-0800
TZNAME:PST
DTSTART:20241103T090000
END:STANDARD
END:VTIMEZONE
BEGIN:VEVENT
DTSTART;TZID=America/Los_Angeles:20230601T170000
DTEND;TZID=America/Los_Angeles:20230601T190000
DTSTAMP:20260423T021154
CREATED:20230405T002342Z
LAST-MODIFIED:20230518T155320Z
UID:5123-1685638800-1685646000@www.bryantschool.org
SUMMARY:New Family Night (Open House)
DESCRIPTION:Bryant Elementary WELCOMES ALL New Families – 2023! | Bryant PTSA (bryantschool.org) \n \nBryant Elementary WELCOMES ALL New Families – 2023! \nBryant staff and PTSA heartily welcome you to our community and hope you can attend a special evening created with you and your arriving student in mind – IN PERSON!!!! \nMost new families are kindergarten families and the night is overall geared towards their acclimation to Bryant so kindergarten staff will be in full attendance. \n\nWhen: Thursday June 1st   5:30 p.m. – 7:00 p.m.\nWhere: Bryant School 3311 NE 60th Street (use this entrance)\nWho: YOU & your entering student (and family\, if you wish)\, PTSA rep\, principal(s)\,\n\nK teachers\, community childcare providers (LASER) \n\nWhat: Hear: about our school\, kindergarten\, PTSA programs\, and more…\nWhy: we want you to love Bryant as much as we do!!! 😊\n\n\n\n\n\nNo RSVP required but we’d love to know you are coming. If you wish email Kevin G. Gallagher\, kggallagher@seattleschools.org regarding Thursday June 1st. \n\n\n\n\n  \nExpected agenda: \n5:00 – school front doors open (60th St entrance) \n5:30 – 6:10 – Bryant ‘nuts & bolts’ – principal\, PTSA\, LASER. K team will each have information to share with you and answer related questions \n\nK families information and Q & A session with the Kindergarten teaching team\n\nThen till-7:00 – you can visit all the K rooms in the K hallway and the building\, in general. We each will be in our rooms to answer questions you have. Additionally\, we have Bryant-specific K topics to explain and Kinder-tools for viewing on student work tables. \n  \nA few more details will be emailed to you early that week… \nHope to see you then.
URL:https://www.bryantschool.org/event/new-family-night-2023/
LOCATION:Bryant Elementary
END:VEVENT
END:VCALENDAR