BEGIN:VCALENDAR
VERSION:2.0
PRODID:-//Bryant PTSA - ECPv6.15.20//NONSGML v1.0//EN
CALSCALE:GREGORIAN
METHOD:PUBLISH
X-WR-CALNAME:Bryant PTSA
X-ORIGINAL-URL:https://www.bryantschool.org
X-WR-CALDESC:Events for Bryant PTSA
REFRESH-INTERVAL;VALUE=DURATION:PT1H
X-Robots-Tag:noindex
X-PUBLISHED-TTL:PT1H
BEGIN:VTIMEZONE
TZID:America/Los_Angeles
BEGIN:DAYLIGHT
TZOFFSETFROM:-0800
TZOFFSETTO:-0700
TZNAME:PDT
DTSTART:20230312T100000
END:DAYLIGHT
BEGIN:STANDARD
TZOFFSETFROM:-0700
TZOFFSETTO:-0800
TZNAME:PST
DTSTART:20231105T090000
END:STANDARD
BEGIN:DAYLIGHT
TZOFFSETFROM:-0800
TZOFFSETTO:-0700
TZNAME:PDT
DTSTART:20240310T100000
END:DAYLIGHT
BEGIN:STANDARD
TZOFFSETFROM:-0700
TZOFFSETTO:-0800
TZNAME:PST
DTSTART:20241103T090000
END:STANDARD
BEGIN:DAYLIGHT
TZOFFSETFROM:-0800
TZOFFSETTO:-0700
TZNAME:PDT
DTSTART:20250309T100000
END:DAYLIGHT
BEGIN:STANDARD
TZOFFSETFROM:-0700
TZOFFSETTO:-0800
TZNAME:PST
DTSTART:20251102T090000
END:STANDARD
END:VTIMEZONE
BEGIN:VEVENT
DTSTART;VALUE=DATE:20240115
DTEND;VALUE=DATE:20240116
DTSTAMP:20260420T232932
CREATED:20230910T191958Z
LAST-MODIFIED:20230910T192232Z
UID:5318-1705276800-1705363199@www.bryantschool.org
SUMMARY:Martin Luther King Jr. Day (No School)
DESCRIPTION:
URL:https://www.bryantschool.org/event/martin-luther-king-jr-day-no-school/
CATEGORIES:No School
END:VEVENT
BEGIN:VEVENT
DTSTART;TZID=America/Los_Angeles:20240115T100000
DTEND;TZID=America/Los_Angeles:20240115T113000
DTSTAMP:20260420T232932
CREATED:20240103T054120Z
LAST-MODIFIED:20240103T054120Z
UID:5570-1705312800-1705318200@www.bryantschool.org
SUMMARY:2024 MLK Service Day event @ Bryant
DESCRIPTION:See https://www.bryantschool.org/news/2024-mlk-service-day/ for more information.
URL:https://www.bryantschool.org/event/2024-mlk-service-day-event-bryant/
LOCATION:Bryant basketball courts
CATEGORIES:PSTA Events
END:VEVENT
END:VCALENDAR