BEGIN:VCALENDAR
VERSION:2.0
PRODID:-//Bryant PTSA - ECPv6.15.20//NONSGML v1.0//EN
CALSCALE:GREGORIAN
METHOD:PUBLISH
X-ORIGINAL-URL:https://www.bryantschool.org
X-WR-CALDESC:Events for Bryant PTSA
REFRESH-INTERVAL;VALUE=DURATION:PT1H
X-Robots-Tag:noindex
X-PUBLISHED-TTL:PT1H
BEGIN:VTIMEZONE
TZID:America/Los_Angeles
BEGIN:DAYLIGHT
TZOFFSETFROM:-0800
TZOFFSETTO:-0700
TZNAME:PDT
DTSTART:20230312T100000
END:DAYLIGHT
BEGIN:STANDARD
TZOFFSETFROM:-0700
TZOFFSETTO:-0800
TZNAME:PST
DTSTART:20231105T090000
END:STANDARD
BEGIN:DAYLIGHT
TZOFFSETFROM:-0800
TZOFFSETTO:-0700
TZNAME:PDT
DTSTART:20240310T100000
END:DAYLIGHT
BEGIN:STANDARD
TZOFFSETFROM:-0700
TZOFFSETTO:-0800
TZNAME:PST
DTSTART:20241103T090000
END:STANDARD
BEGIN:DAYLIGHT
TZOFFSETFROM:-0800
TZOFFSETTO:-0700
TZNAME:PDT
DTSTART:20250309T100000
END:DAYLIGHT
BEGIN:STANDARD
TZOFFSETFROM:-0700
TZOFFSETTO:-0800
TZNAME:PST
DTSTART:20251102T090000
END:STANDARD
END:VTIMEZONE
BEGIN:VEVENT
DTSTART;VALUE=DATE:20240322
DTEND;VALUE=DATE:20240325
DTSTAMP:20260420T134926
CREATED:20230912T041933Z
LAST-MODIFIED:20240207T162946Z
UID:5388-1711065600-1711324799@www.bryantschool.org
SUMMARY:School Play (Gr 4 & 5)
DESCRIPTION:2024 Bryant Play: \n\nREEF CAST PERFORMANCES\nFriday\, March 22 at 7pm\nSaturday\, March 23 at 2pm\n \nSHORE CAST PERFORMANCES\nSaturday\, March 23 at 7pm\nSunday\, March 24 at 2pm\n \nTickets & Bake Sale – CASH ONLY\n$5 per ticket at the door\nDoors open 30 minutes before showtime.\n \nBryant Elementary front door at 3311 NE 60th St.\n\n \nSee 4th & 5th Grade School Play | Bryant PTSA (bryantschool.org) for more information.
URL:https://www.bryantschool.org/event/school-play-gr-4-5-2024/
LOCATION:Bryant Elementary front door
END:VEVENT
END:VCALENDAR