BEGIN:VCALENDAR
VERSION:2.0
PRODID:-//Bryant PTSA - ECPv6.15.20//NONSGML v1.0//EN
CALSCALE:GREGORIAN
METHOD:PUBLISH
X-WR-CALNAME:Bryant PTSA
X-ORIGINAL-URL:https://www.bryantschool.org
X-WR-CALDESC:Events for Bryant PTSA
REFRESH-INTERVAL;VALUE=DURATION:PT1H
X-Robots-Tag:noindex
X-PUBLISHED-TTL:PT1H
BEGIN:VTIMEZONE
TZID:America/Los_Angeles
BEGIN:DAYLIGHT
TZOFFSETFROM:-0800
TZOFFSETTO:-0700
TZNAME:PDT
DTSTART:20230312T100000
END:DAYLIGHT
BEGIN:STANDARD
TZOFFSETFROM:-0700
TZOFFSETTO:-0800
TZNAME:PST
DTSTART:20231105T090000
END:STANDARD
BEGIN:DAYLIGHT
TZOFFSETFROM:-0800
TZOFFSETTO:-0700
TZNAME:PDT
DTSTART:20240310T100000
END:DAYLIGHT
BEGIN:STANDARD
TZOFFSETFROM:-0700
TZOFFSETTO:-0800
TZNAME:PST
DTSTART:20241103T090000
END:STANDARD
BEGIN:DAYLIGHT
TZOFFSETFROM:-0800
TZOFFSETTO:-0700
TZNAME:PDT
DTSTART:20250309T100000
END:DAYLIGHT
BEGIN:STANDARD
TZOFFSETFROM:-0700
TZOFFSETTO:-0800
TZNAME:PST
DTSTART:20251102T090000
END:STANDARD
END:VTIMEZONE
BEGIN:VEVENT
DTSTART;VALUE=DATE:20240501
DTEND;VALUE=DATE:20240601
DTSTAMP:20260420T081926
CREATED:20230912T042109Z
LAST-MODIFIED:20240522T060907Z
UID:5392-1714521600-1717199999@www.bryantschool.org
SUMMARY:Bike to School Month (May)
DESCRIPTION:Please see Bike to Bryant | Bryant PTSA (bryantschool.org) for more information.
URL:https://www.bryantschool.org/event/bike-to-school-month-may-2024/
END:VEVENT
BEGIN:VEVENT
DTSTART;TZID=America/Los_Angeles:20240504T120000
DTEND;TZID=America/Los_Angeles:20240504T160000
DTSTAMP:20260420T081926
CREATED:20230912T042154Z
LAST-MODIFIED:20240328T233108Z
UID:5394-1714824000-1714838400@www.bryantschool.org
SUMMARY:Bryant Blast 2024
DESCRIPTION:When: May 4th\, 2024  \n\nTime: Noon-4pm\nLocation: Bryant Elementary Playground\, gym and cafeteria\nActivities: Games with prizes\, Gaga ball\, Face Painting\, Raffle cakes\, Raffle baskets and More!\nFood: Hot dogs\, Bahn-Mi\, Cookies and other snacks\nCost: The Bryant Blast is free to attend but activities and food require ticket purchase. Ticket pre-sale will happen in mid-April.
URL:https://www.bryantschool.org/event/bryant-blast-carnival-2024/
LOCATION:Bryant Elementary
END:VEVENT
END:VCALENDAR