BEGIN:VCALENDAR
VERSION:2.0
PRODID:-//Bryant PTSA - ECPv6.15.20//NONSGML v1.0//EN
CALSCALE:GREGORIAN
METHOD:PUBLISH
X-ORIGINAL-URL:https://www.bryantschool.org
X-WR-CALDESC:Events for Bryant PTSA
REFRESH-INTERVAL;VALUE=DURATION:PT1H
X-Robots-Tag:noindex
X-PUBLISHED-TTL:PT1H
BEGIN:VTIMEZONE
TZID:America/Los_Angeles
BEGIN:DAYLIGHT
TZOFFSETFROM:-0800
TZOFFSETTO:-0700
TZNAME:PDT
DTSTART:20230312T100000
END:DAYLIGHT
BEGIN:STANDARD
TZOFFSETFROM:-0700
TZOFFSETTO:-0800
TZNAME:PST
DTSTART:20231105T090000
END:STANDARD
BEGIN:DAYLIGHT
TZOFFSETFROM:-0800
TZOFFSETTO:-0700
TZNAME:PDT
DTSTART:20240310T100000
END:DAYLIGHT
BEGIN:STANDARD
TZOFFSETFROM:-0700
TZOFFSETTO:-0800
TZNAME:PST
DTSTART:20241103T090000
END:STANDARD
BEGIN:DAYLIGHT
TZOFFSETFROM:-0800
TZOFFSETTO:-0700
TZNAME:PDT
DTSTART:20250309T100000
END:DAYLIGHT
BEGIN:STANDARD
TZOFFSETFROM:-0700
TZOFFSETTO:-0800
TZNAME:PST
DTSTART:20251102T090000
END:STANDARD
END:VTIMEZONE
BEGIN:VEVENT
DTSTART;TZID=America/Los_Angeles:20240608T090000
DTEND;TZID=America/Los_Angeles:20240608T113000
DTSTAMP:20260419T224521
CREATED:20240528T161011Z
LAST-MODIFIED:20240528T165146Z
UID:5728-1717837200-1717846200@www.bryantschool.org
SUMMARY:First Grade Sweet Summer Send-Off: Donuts & Coffee in the Park
DESCRIPTION:First-Grade Sweet Summer Send-Off:  Donuts & Coffee in the Park  \n\nJoin us for our end-of-year event\, the First Grade Sweet Summer Send-Off: Donuts & Coffee in the Park! This is a wonderful opportunity for first-grade families to connect as a community before summer break. Enjoy a delightful morning with donuts\, coffee\, and good company in the beautiful setting of Ravenna Park. \nEvent Details: \n📅 Date: Saturday\, June 8\n⏰ Time: 9:00 – 11:30 AM\n📍 Location: Ravenna Park Playground\, 5520 Ravenna Ave NE\, Seattle\, WA 98105 \nWe look forward to seeing you there and celebrating the end of a fantastic school year together!
URL:https://www.bryantschool.org/event/first-grade-donuts-in-the-park/
LOCATION:Ravenna Park Playground\, 5520 Ravenna Ave NE\, Seattle\, WA\, 98105\, United States
END:VEVENT
END:VCALENDAR