BEGIN:VCALENDAR
VERSION:2.0
PRODID:-//Bryant PTSA - ECPv6.15.20//NONSGML v1.0//EN
CALSCALE:GREGORIAN
METHOD:PUBLISH
X-WR-CALNAME:Bryant PTSA
X-ORIGINAL-URL:https://www.bryantschool.org
X-WR-CALDESC:Events for Bryant PTSA
REFRESH-INTERVAL;VALUE=DURATION:PT1H
X-Robots-Tag:noindex
X-PUBLISHED-TTL:PT1H
BEGIN:VTIMEZONE
TZID:America/Los_Angeles
BEGIN:DAYLIGHT
TZOFFSETFROM:-0800
TZOFFSETTO:-0700
TZNAME:PDT
DTSTART:20230312T100000
END:DAYLIGHT
BEGIN:STANDARD
TZOFFSETFROM:-0700
TZOFFSETTO:-0800
TZNAME:PST
DTSTART:20231105T090000
END:STANDARD
BEGIN:DAYLIGHT
TZOFFSETFROM:-0800
TZOFFSETTO:-0700
TZNAME:PDT
DTSTART:20240310T100000
END:DAYLIGHT
BEGIN:STANDARD
TZOFFSETFROM:-0700
TZOFFSETTO:-0800
TZNAME:PST
DTSTART:20241103T090000
END:STANDARD
BEGIN:DAYLIGHT
TZOFFSETFROM:-0800
TZOFFSETTO:-0700
TZNAME:PDT
DTSTART:20250309T100000
END:DAYLIGHT
BEGIN:STANDARD
TZOFFSETFROM:-0700
TZOFFSETTO:-0800
TZNAME:PST
DTSTART:20251102T090000
END:STANDARD
END:VTIMEZONE
BEGIN:VEVENT
DTSTART;TZID=America/Los_Angeles:20241008T190000
DTEND;TZID=America/Los_Angeles:20241008T210000
DTSTAMP:20260420T232736
CREATED:20240701T164612Z
LAST-MODIFIED:20241002T045026Z
UID:5742-1728414000-1728421200@www.bryantschool.org
SUMMARY:Bryant PTSA General Meeting
DESCRIPTION:All PTSA Members and Bryant families are encouraged to attend General Membership meetings. \n\nNeed childcare? LASER will be providing free childcare during the meeting with pizza\, arts and crafts\, and more. Childcare must be reserved in advance through the LASER website at laserchildcare.org (coming soon). Please note\, a minimum of 10 signups are required in order for care to be provided that evening. \nThank you!
URL:https://www.bryantschool.org/event/bryant-ptsa-general-meeting-202410/
LOCATION:Bryant Elementary Library
CATEGORIES:Monthly PTSA Meetings
END:VEVENT
END:VCALENDAR