BEGIN:VCALENDAR
VERSION:2.0
PRODID:-//Bryant PTSA - ECPv6.15.20//NONSGML v1.0//EN
CALSCALE:GREGORIAN
METHOD:PUBLISH
X-WR-CALNAME:Bryant PTSA
X-ORIGINAL-URL:https://www.bryantschool.org
X-WR-CALDESC:Events for Bryant PTSA
REFRESH-INTERVAL;VALUE=DURATION:PT1H
X-Robots-Tag:noindex
X-PUBLISHED-TTL:PT1H
BEGIN:VTIMEZONE
TZID:America/Los_Angeles
BEGIN:DAYLIGHT
TZOFFSETFROM:-0800
TZOFFSETTO:-0700
TZNAME:PDT
DTSTART:20230312T100000
END:DAYLIGHT
BEGIN:STANDARD
TZOFFSETFROM:-0700
TZOFFSETTO:-0800
TZNAME:PST
DTSTART:20231105T090000
END:STANDARD
BEGIN:DAYLIGHT
TZOFFSETFROM:-0800
TZOFFSETTO:-0700
TZNAME:PDT
DTSTART:20240310T100000
END:DAYLIGHT
BEGIN:STANDARD
TZOFFSETFROM:-0700
TZOFFSETTO:-0800
TZNAME:PST
DTSTART:20241103T090000
END:STANDARD
BEGIN:DAYLIGHT
TZOFFSETFROM:-0800
TZOFFSETTO:-0700
TZNAME:PDT
DTSTART:20250309T100000
END:DAYLIGHT
BEGIN:STANDARD
TZOFFSETFROM:-0700
TZOFFSETTO:-0800
TZNAME:PST
DTSTART:20251102T090000
END:STANDARD
END:VTIMEZONE
BEGIN:VEVENT
DTSTART;TZID=America/Los_Angeles:20241028T193000
DTEND;TZID=America/Los_Angeles:20241028T200000
DTSTAMP:20260420T184900
CREATED:20241016T062321Z
LAST-MODIFIED:20241016T062626Z
UID:5959-1730143800-1730145600@www.bryantschool.org
SUMMARY:Bryant Volunteering Info Session
DESCRIPTION:Join Us for a Bryant Volunteering Info Session! \n\nAre you new to Bryant or just not sure how to get involved?  The Bryant PTSA Volunteer Co-Chairs will be hosting an informal Q&A session to talk through ways that you can make an impact and how to go about the process.  This will be an informal\, virtual call to help learn about how volunteering works at Bryant and help answer any questions.    \nDate: Monday\, Oct 28 @7:30-8:00pm \nSee Bryant Weekly for Zoom meeting link. \n\nIf you are interested in being on the email list for upcoming volunteer needs\, please fill out our volunteer interest form. Contact volunteer@bryantschool.org if you have questions or new ideas for this year!\n 
URL:https://www.bryantschool.org/event/bryant-volunteering-info-session-2024/
LOCATION:Zoom
END:VEVENT
END:VCALENDAR