BEGIN:VCALENDAR
VERSION:2.0
PRODID:-//Bryant PTSA - ECPv6.15.20//NONSGML v1.0//EN
CALSCALE:GREGORIAN
METHOD:PUBLISH
X-WR-CALNAME:Bryant PTSA
X-ORIGINAL-URL:https://www.bryantschool.org
X-WR-CALDESC:Events for Bryant PTSA
REFRESH-INTERVAL;VALUE=DURATION:PT1H
X-Robots-Tag:noindex
X-PUBLISHED-TTL:PT1H
BEGIN:VTIMEZONE
TZID:America/Los_Angeles
BEGIN:DAYLIGHT
TZOFFSETFROM:-0800
TZOFFSETTO:-0700
TZNAME:PDT
DTSTART:20210314T100000
END:DAYLIGHT
BEGIN:STANDARD
TZOFFSETFROM:-0700
TZOFFSETTO:-0800
TZNAME:PST
DTSTART:20211107T090000
END:STANDARD
BEGIN:DAYLIGHT
TZOFFSETFROM:-0800
TZOFFSETTO:-0700
TZNAME:PDT
DTSTART:20220313T100000
END:DAYLIGHT
BEGIN:STANDARD
TZOFFSETFROM:-0700
TZOFFSETTO:-0800
TZNAME:PST
DTSTART:20221106T090000
END:STANDARD
BEGIN:DAYLIGHT
TZOFFSETFROM:-0800
TZOFFSETTO:-0700
TZNAME:PDT
DTSTART:20230312T100000
END:DAYLIGHT
BEGIN:STANDARD
TZOFFSETFROM:-0700
TZOFFSETTO:-0800
TZNAME:PST
DTSTART:20231105T090000
END:STANDARD
BEGIN:DAYLIGHT
TZOFFSETFROM:-0800
TZOFFSETTO:-0700
TZNAME:PDT
DTSTART:20240310T100000
END:DAYLIGHT
BEGIN:STANDARD
TZOFFSETFROM:-0700
TZOFFSETTO:-0800
TZNAME:PST
DTSTART:20241103T090000
END:STANDARD
BEGIN:DAYLIGHT
TZOFFSETFROM:-0800
TZOFFSETTO:-0700
TZNAME:PDT
DTSTART:20250309T100000
END:DAYLIGHT
BEGIN:STANDARD
TZOFFSETFROM:-0700
TZOFFSETTO:-0800
TZNAME:PST
DTSTART:20251102T090000
END:STANDARD
END:VTIMEZONE
BEGIN:VEVENT
DTSTART;TZID=America/Los_Angeles:20240614T183000
DTEND;TZID=America/Los_Angeles:20240614T203000
DTSTAMP:20260420T150944
CREATED:20230910T200545Z
LAST-MODIFIED:20230910T200545Z
UID:5354-1718389800-1718397000@www.bryantschool.org
SUMMARY:Laser Parent Night Out: LASER Campout
DESCRIPTION:LASER offers Parent Night Out (PNO) each month of the year (except for summer) at our Bryant location on a specified Friday from 6:30 pm to 10:30 pm.  While themes vary per month\, all Parent Night Outs include a movie\, dinner\, game\, craft\, and snack.  \nChildren do not need to be registered in LASER in order to attend a Parent Night Out\, but they must be between the ages of 5 to 12 years old.  The cost is $40 for one child and $30 for each additional sibling. 
URL:https://www.bryantschool.org/event/laser-parent-night-out-laser-campout/
LOCATION:Bryant Elementary
CATEGORIES:Parent Night Out
END:VEVENT
BEGIN:VEVENT
DTSTART;TZID=America/Los_Angeles:20240517T183000
DTEND;TZID=America/Los_Angeles:20240517T223000
DTSTAMP:20260420T150944
CREATED:20230910T200434Z
LAST-MODIFIED:20230910T200434Z
UID:5352-1715970600-1715985000@www.bryantschool.org
SUMMARY:Laser Parent Night Out: Super Sports Soiree
DESCRIPTION:LASER offers Parent Night Out (PNO) each month of the year (except for summer) at our Bryant location on a specified Friday from 6:30 pm to 10:30 pm.  While themes vary per month\, all Parent Night Outs include a movie\, dinner\, game\, craft\, and snack.  \nChildren do not need to be registered in LASER in order to attend a Parent Night Out\, but they must be between the ages of 5 to 12 years old.  The cost is $40 for one child and $30 for each additional sibling. 
URL:https://www.bryantschool.org/event/laser-parent-night-out-super-sports-soiree/
LOCATION:Bryant Elementary
CATEGORIES:Parent Night Out
END:VEVENT
BEGIN:VEVENT
DTSTART;TZID=America/Los_Angeles:20240419T183000
DTEND;TZID=America/Los_Angeles:20240419T223000
DTSTAMP:20260420T150944
CREATED:20230910T200314Z
LAST-MODIFIED:20230910T200314Z
UID:5350-1713551400-1713565800@www.bryantschool.org
SUMMARY:Laser Parent Night Out: Planet Earth
DESCRIPTION:LASER offers Parent Night Out (PNO) each month of the year (except for summer) at our Bryant location on a specified Friday from 6:30 pm to 10:30 pm.  While themes vary per month\, all Parent Night Outs include a movie\, dinner\, game\, craft\, and snack.  \nChildren do not need to be registered in LASER in order to attend a Parent Night Out\, but they must be between the ages of 5 to 12 years old.  The cost is $40 for one child and $30 for each additional sibling. 
URL:https://www.bryantschool.org/event/laser-parent-night-out-planet-earth/
LOCATION:Bryant Elementary
CATEGORIES:Parent Night Out
END:VEVENT
BEGIN:VEVENT
DTSTART;TZID=America/Los_Angeles:20240315T183000
DTEND;TZID=America/Los_Angeles:20240315T223000
DTSTAMP:20260420T150944
CREATED:20230910T200209Z
LAST-MODIFIED:20230910T200209Z
UID:5348-1710527400-1710541800@www.bryantschool.org
SUMMARY:Laser Parent Night Out: March Magic
DESCRIPTION:LASER offers Parent Night Out (PNO) each month of the year (except for summer) at our Bryant location on a specified Friday from 6:30 pm to 10:30 pm.  While themes vary per month\, all Parent Night Outs include a movie\, dinner\, game\, craft\, and snack.  \nChildren do not need to be registered in LASER in order to attend a Parent Night Out\, but they must be between the ages of 5 to 12 years old.  The cost is $40 for one child and $30 for each additional sibling. 
URL:https://www.bryantschool.org/event/laser-parent-night-out-march-magic/
LOCATION:Bryant Elementary
CATEGORIES:Parent Night Out
END:VEVENT
BEGIN:VEVENT
DTSTART;TZID=America/Los_Angeles:20240209T183000
DTEND;TZID=America/Los_Angeles:20240209T223000
DTSTAMP:20260420T150944
CREATED:20230910T200049Z
LAST-MODIFIED:20230910T200049Z
UID:5346-1707503400-1707517800@www.bryantschool.org
SUMMARY:Laser Parent Night Out: Rock Star Jam
DESCRIPTION:LASER offers Parent Night Out (PNO) each month of the year (except for summer) at our Bryant location on a specified Friday from 6:30 pm to 10:30 pm.  While themes vary per month\, all Parent Night Outs include a movie\, dinner\, game\, craft\, and snack.  \nChildren do not need to be registered in LASER in order to attend a Parent Night Out\, but they must be between the ages of 5 to 12 years old.  The cost is $40 for one child and $30 for each additional sibling. 
URL:https://www.bryantschool.org/event/laser-parent-night-out-rock-star-jam/
LOCATION:Bryant Elementary
CATEGORIES:Parent Night Out
END:VEVENT
BEGIN:VEVENT
DTSTART;TZID=America/Los_Angeles:20240119T183000
DTEND;TZID=America/Los_Angeles:20240119T223000
DTSTAMP:20260420T150944
CREATED:20230910T195544Z
LAST-MODIFIED:20230910T195544Z
UID:5342-1705689000-1705703400@www.bryantschool.org
SUMMARY:Laser Parent Night Out: Jungle Jamboree
DESCRIPTION:LASER offers Parent Night Out (PNO) each month of the year (except for summer) at our Bryant location on a specified Friday from 6:30 pm to 10:30 pm.  While themes vary per month\, all Parent Night Outs include a movie\, dinner\, game\, craft\, and snack.  \nChildren do not need to be registered in LASER in order to attend a Parent Night Out\, but they must be between the ages of 5 to 12 years old.  The cost is $40 for one child and $30 for each additional sibling.
URL:https://www.bryantschool.org/event/laser-parent-night-out-jungle-jamboree/
LOCATION:Bryant Elementary
CATEGORIES:Parent Night Out
END:VEVENT
BEGIN:VEVENT
DTSTART;TZID=America/Los_Angeles:20231201T183000
DTEND;TZID=America/Los_Angeles:20231201T223000
DTSTAMP:20260420T150944
CREATED:20230910T195356Z
LAST-MODIFIED:20230910T195617Z
UID:5340-1701455400-1701469800@www.bryantschool.org
SUMMARY:Laser Parent Night Out: Holiday Party
DESCRIPTION:LASER offers Parent Night Out (PNO) each month of the year (except for summer) at our Bryant location on a specified Friday from 6:30 pm to 10:30 pm.  While themes vary per month\, all Parent Night Outs include a movie\, dinner\, game\, craft\, and snack.  \nChildren do not need to be registered in LASER in order to attend a Parent Night Out\, but they must be between the ages of 5 to 12 years old.  The cost is $40 for one child and $30 for each additional sibling.  
URL:https://www.bryantschool.org/event/laser-parent-night-out-holiday-party/
LOCATION:Bryant Elementary
CATEGORIES:Parent Night Out
END:VEVENT
BEGIN:VEVENT
DTSTART;TZID=America/Los_Angeles:20231117T183000
DTEND;TZID=America/Los_Angeles:20231117T223000
DTSTAMP:20260420T150944
CREATED:20230910T195203Z
LAST-MODIFIED:20230910T195719Z
UID:5338-1700245800-1700260200@www.bryantschool.org
SUMMARY:Laser Parent Night Out: Woodland Wonderland
DESCRIPTION:LASER offers Parent Night Out (PNO) each month of the year (except for summer) at our Bryant location on a specified Friday from 6:30 pm to 10:30 pm.  While themes vary per month\, all Parent Night Outs include a movie\, dinner\, game\, craft\, and snack.  \nChildren do not need to be registered in LASER in order to attend a Parent Night Out\, but they must be between the ages of 5 to 12 years old.  The cost is $40 for one child and $30 for each additional sibling.
URL:https://www.bryantschool.org/event/laser-parent-night-out-woodland-wonderland/
LOCATION:Bryant Elementary
CATEGORIES:Parent Night Out
END:VEVENT
BEGIN:VEVENT
DTSTART;TZID=America/Los_Angeles:20231020T183000
DTEND;TZID=America/Los_Angeles:20231020T223000
DTSTAMP:20260420T150944
CREATED:20230910T195026Z
LAST-MODIFIED:20230910T195026Z
UID:5336-1697826600-1697841000@www.bryantschool.org
SUMMARY:Laser Parent Night Out: Costume Party
DESCRIPTION:LASER offers Parent Night Out (PNO) each month of the year (except for summer) at our Bryant location on a specified Friday from 6:30 pm to 10:30 pm.  While themes vary per month\, all Parent Night Outs include a movie\, dinner\, game\, craft\, and snack.  \nChildren do not need to be registered in LASER in order to attend a Parent Night Out\, but they must be between the ages of 5 to 12 years old.  The cost is $40 for one child and $30 for each additional sibling. 
URL:https://www.bryantschool.org/event/laser-parent-night-out-costume-party/
LOCATION:Bryant Elementary
CATEGORIES:Parent Night Out
END:VEVENT
BEGIN:VEVENT
DTSTART;TZID=America/Los_Angeles:20230922T183000
DTEND;TZID=America/Los_Angeles:20230922T223000
DTSTAMP:20260420T150944
CREATED:20230910T193810Z
LAST-MODIFIED:20230910T201632Z
UID:5330-1695407400-1695421800@www.bryantschool.org
SUMMARY:Laser Parent Night Out: Adventure is at Laser
DESCRIPTION:LASER offers Parent Night Out (PNO) each month of the year (except for summer) at our Bryant location on a specified Friday from 6:30 pm to 10:30 pm.  While themes vary per month\, all Parent Night Outs include a movie\, dinner\, game\, craft\, and snack.  \nChildren do not need to be registered in LASER in order to attend a Parent Night Out\, but they must be between the ages of 5 to 12 years old.  The cost is $40 for one child and $30 for each additional sibling. 
URL:https://www.bryantschool.org/event/laser-parent-night-out/
LOCATION:Bryant Elementary
CATEGORIES:Parent Night Out
ATTACH;FMTTYPE=image/png:https://www.bryantschool.org/wp-content/uploads/2023/09/Adventure_laser.png
END:VEVENT
BEGIN:VEVENT
DTSTART;TZID=America/Los_Angeles:20230609T183000
DTEND;TZID=America/Los_Angeles:20230609T223000
DTSTAMP:20260420T150944
CREATED:20230315T051211Z
LAST-MODIFIED:20230315T051211Z
UID:5032-1686335400-1686349800@www.bryantschool.org
SUMMARY:Laser Parent Night Out - Island Mania
DESCRIPTION:LASER offers Parent Night Out (PNO) each month of the year at our Bryant location on a specified Friday from 6:30 pm to 10:30 pm.  While themes vary per month\, all Parent Night Outs include a movie\, dinner\, game\, craft\, and snack.   \nRegistration is open for all these upcoming Parent Night Outs dates. Children do not need to be registered in LASER in order to attend a Parent Night Out\, but they must be between the ages of 5 to 12 years old. The cost is $35 for one child and $25 for each additional sibling.  We need a minimum of 10 children to offer PNOs. 
URL:https://www.bryantschool.org/event/laser-parent-night-out-island-mania/
LOCATION:Bryant Elementary
CATEGORIES:Parent Night Out
ATTACH;FMTTYPE=image/png:https://www.bryantschool.org/wp-content/uploads/2023/03/unnamed-3.png
END:VEVENT
BEGIN:VEVENT
DTSTART;TZID=America/Los_Angeles:20230519T183000
DTEND;TZID=America/Los_Angeles:20230519T223000
DTSTAMP:20260420T150944
CREATED:20230315T051025Z
LAST-MODIFIED:20230315T051301Z
UID:5030-1684521000-1684535400@www.bryantschool.org
SUMMARY:Laser Parent Night Out - I Scream For Ice Cream
DESCRIPTION:LASER offers Parent Night Out (PNO) each month of the year at our Bryant location on a specified Friday from 6:30 pm to 10:30 pm.  While themes vary per month\, all Parent Night Outs include a movie\, dinner\, game\, craft\, and snack.   \nRegistration is open for all these upcoming Parent Night Outs dates. Children do not need to be registered in LASER in order to attend a Parent Night Out\, but they must be between the ages of 5 to 12 years old. The cost is $35 for one child and $25 for each additional sibling.  We need a minimum of 10 children to offer PNOs. 
URL:https://www.bryantschool.org/event/laser-parent-night-out-i-scream-for-ice-cream/
LOCATION:Bryant Elementary
CATEGORIES:Parent Night Out
ATTACH;FMTTYPE=image/png:https://www.bryantschool.org/wp-content/uploads/2023/03/unnamed-2.png
END:VEVENT
BEGIN:VEVENT
DTSTART;TZID=America/Los_Angeles:20230421T183000
DTEND;TZID=America/Los_Angeles:20230421T223000
DTSTAMP:20260420T150944
CREATED:20230315T050811Z
LAST-MODIFIED:20230315T050811Z
UID:5026-1682101800-1682116200@www.bryantschool.org
SUMMARY:Laser Parents Night Out - Legoland
DESCRIPTION:LASER offers Parent Night Out (PNO) each month of the year at our Bryant location on a specified Friday from 6:30 pm to 10:30 pm.  While themes vary per month\, all Parent Night Outs include a movie\, dinner\, game\, craft\, and snack.   \nRegistration is open for all these upcoming Parent Night Outs dates. Children do not need to be registered in LASER in order to attend a Parent Night Out\, but they must be between the ages of 5 to 12 years old. The cost is $35 for one child and $25 for each additional sibling.  We need a minimum of 10 children to offer PNOs. 
URL:https://www.bryantschool.org/event/laser-parents-night-out-legoland/
LOCATION:Bryant Elementary
CATEGORIES:Parent Night Out
ATTACH;FMTTYPE=image/png:https://www.bryantschool.org/wp-content/uploads/2023/03/unnamed-1.png
END:VEVENT
BEGIN:VEVENT
DTSTART;TZID=America/Los_Angeles:20230324T183000
DTEND;TZID=America/Los_Angeles:20230324T223000
DTSTAMP:20260420T150944
CREATED:20230315T050435Z
LAST-MODIFIED:20230315T050839Z
UID:5016-1679682600-1679697000@www.bryantschool.org
SUMMARY:Laser Parent Night Out - Fantasy Land
DESCRIPTION:LASER offers Parent Night Out (PNO) each month of the year at our Bryant location on a specified Friday from 6:30 pm to 10:30 pm.  While themes vary per month\, all Parent Night Outs include a movie\, dinner\, game\, craft\, and snack.   \nRegistration is open for all these upcoming Parent Night Outs dates. Children do not need to be registered in LASER in order to attend a Parent Night Out\, but they must be between the ages of 5 to 12 years old. The cost is $35 for one child and $25 for each additional sibling.  We need a minimum of 10 children to offer PNOs. 
URL:https://www.bryantschool.org/event/laser-parent-night-out-fantasy-land/
LOCATION:Bryant Elementary
CATEGORIES:Parent Night Out
ATTACH;FMTTYPE=image/png:https://www.bryantschool.org/wp-content/uploads/2023/03/unnamed.png
END:VEVENT
BEGIN:VEVENT
DTSTART;TZID=America/Los_Angeles:20230112T193000
DTEND;TZID=America/Los_Angeles:20230112T193000
DTSTAMP:20260420T150944
CREATED:20221129T174833Z
LAST-MODIFIED:20221129T174943Z
UID:4878-1673551800-1673551800@www.bryantschool.org
SUMMARY:4th and 5th Grade Parent Night Out
DESCRIPTION:Thurs 1/12 7:30pm @Growler Guys
URL:https://www.bryantschool.org/event/4th-and-5th-grade-parent-night-out-2023/
LOCATION:Growler Guys\, 8500 Lake City Way NE
CATEGORIES:Parent Night Out
END:VEVENT
BEGIN:VEVENT
DTSTART;TZID=America/Los_Angeles:20221215T190000
DTEND;TZID=America/Los_Angeles:20221215T190000
DTSTAMP:20260420T150944
CREATED:20221129T174611Z
LAST-MODIFIED:20221129T175137Z
UID:4873-1671130800-1671130800@www.bryantschool.org
SUMMARY:2nd Grade Parent Night Out
DESCRIPTION:Thurs 12/15 7:00pm @Ridge Pizza
URL:https://www.bryantschool.org/event/2nd-grade-parent-night-out-2022/
LOCATION:Ridge Pizza\, 3338 NE 65th Street\, Seattle
CATEGORIES:Parent Night Out
END:VEVENT
BEGIN:VEVENT
DTSTART;TZID=America/Los_Angeles:20221208T193000
DTEND;TZID=America/Los_Angeles:20221208T193000
DTSTAMP:20260420T150944
CREATED:20221129T174718Z
LAST-MODIFIED:20221129T175056Z
UID:4876-1670527800-1670527800@www.bryantschool.org
SUMMARY:3rd Grade Parent Night Out
DESCRIPTION:Thurs 12/8 7:30pm @Ravenna Brewing
URL:https://www.bryantschool.org/event/3rd-grade-parent-night-out-2022/
LOCATION:Ravenna Brewing\, 5408 26th Ave NE
CATEGORIES:Parent Night Out
END:VEVENT
BEGIN:VEVENT
DTSTART;TZID=America/Los_Angeles:20221207T193000
DTEND;TZID=America/Los_Angeles:20221207T193000
DTSTAMP:20260420T150944
CREATED:20221129T174326Z
LAST-MODIFIED:20221129T174429Z
UID:4869-1670441400-1670441400@www.bryantschool.org
SUMMARY:1st Grade Parent Night Out
DESCRIPTION:Wed 12/7 7:30pm @Hellbent Brewing
URL:https://www.bryantschool.org/event/1st-grade-parent-night-out-2022/
LOCATION:Hellbent Brewing\, 13035 Lake City Way NE\, Seattle\, WA\, United States
CATEGORIES:Parent Night Out
END:VEVENT
BEGIN:VEVENT
DTSTART;TZID=America/Los_Angeles:20221130T190000
DTEND;TZID=America/Los_Angeles:20221130T190000
DTSTAMP:20260420T150944
CREATED:20221129T174057Z
LAST-MODIFIED:20221129T174150Z
UID:4866-1669834800-1669834800@www.bryantschool.org
SUMMARY:Kindergarten Parent Night Out
DESCRIPTION:Wed 11/30 7pm @Ravenna Brewing 
URL:https://www.bryantschool.org/event/kindergarten-parent-night-out-2022/
LOCATION:Ravenna Brewing\, 5408 26th Ave NE
CATEGORIES:Parent Night Out
END:VEVENT
END:VCALENDAR