BEGIN:VCALENDAR
VERSION:2.0
PRODID:-//Bryant PTSA - ECPv6.15.20//NONSGML v1.0//EN
CALSCALE:GREGORIAN
METHOD:PUBLISH
X-ORIGINAL-URL:https://www.bryantschool.org
X-WR-CALDESC:Events for Bryant PTSA
REFRESH-INTERVAL;VALUE=DURATION:PT1H
X-Robots-Tag:noindex
X-PUBLISHED-TTL:PT1H
BEGIN:VTIMEZONE
TZID:America/Los_Angeles
BEGIN:DAYLIGHT
TZOFFSETFROM:-0800
TZOFFSETTO:-0700
TZNAME:PDT
DTSTART:20240310T100000
END:DAYLIGHT
BEGIN:STANDARD
TZOFFSETFROM:-0700
TZOFFSETTO:-0800
TZNAME:PST
DTSTART:20241103T090000
END:STANDARD
BEGIN:DAYLIGHT
TZOFFSETFROM:-0800
TZOFFSETTO:-0700
TZNAME:PDT
DTSTART:20250309T100000
END:DAYLIGHT
BEGIN:STANDARD
TZOFFSETFROM:-0700
TZOFFSETTO:-0800
TZNAME:PST
DTSTART:20251102T090000
END:STANDARD
BEGIN:DAYLIGHT
TZOFFSETFROM:-0800
TZOFFSETTO:-0700
TZNAME:PDT
DTSTART:20260308T100000
END:DAYLIGHT
BEGIN:STANDARD
TZOFFSETFROM:-0700
TZOFFSETTO:-0800
TZNAME:PST
DTSTART:20261101T090000
END:STANDARD
END:VTIMEZONE
BEGIN:VEVENT
DTSTART;VALUE=DATE:20251021
DTEND;VALUE=DATE:20251022
DTSTAMP:20260420T135153
CREATED:20250907T071227Z
LAST-MODIFIED:20250907T071227Z
UID:6416-1761004800-1761091199@www.bryantschool.org
SUMMARY:Individual Picture Day
DESCRIPTION:
URL:https://www.bryantschool.org/event/individual-picture-day-2025/
END:VEVENT
BEGIN:VEVENT
DTSTART;TZID=America/Los_Angeles:20251020T190000
DTEND;TZID=America/Los_Angeles:20251020T203000
DTSTAMP:20260420T135153
CREATED:20251007T084113Z
LAST-MODIFIED:20251007T084113Z
UID:6514-1760986800-1760992200@www.bryantschool.org
SUMMARY:School Board Candidate Forum
DESCRIPTION:Join us October 20th for a School Board Candidate Forum \n \nRSVP and suggest candidate questions here: https://tinyurl.com/bdz5ajrd
URL:https://www.bryantschool.org/event/school-board-candidate-forum/
LOCATION:Eckstein Middle School
END:VEVENT
BEGIN:VEVENT
DTSTART;TZID=America/Los_Angeles:20251018T130000
DTEND;TZID=America/Los_Angeles:20251018T150000
DTSTAMP:20260420T135153
CREATED:20250919T074516Z
LAST-MODIFIED:20250919T074516Z
UID:6489-1760792400-1760799600@www.bryantschool.org
SUMMARY:Celebration of Life for Anne Aliverti
DESCRIPTION:Celebration of Life for Anne: Oct 18\, 1–3p at Bryant
URL:https://www.bryantschool.org/event/celebration-of-life-for-anne-aliverti/
LOCATION:Bryant Elementary Cafeteria/Gym
END:VEVENT
BEGIN:VEVENT
DTSTART;VALUE=DATE:20251015
DTEND;VALUE=DATE:20251016
DTSTAMP:20260420T135153
CREATED:20251007T084553Z
LAST-MODIFIED:20251007T084614Z
UID:6527-1760486400-1760572799@www.bryantschool.org
SUMMARY:Walktober Wednesdays
DESCRIPTION:Walktober Wednesdays \n \n 
URL:https://www.bryantschool.org/event/walktober-wednesdays-1015/
END:VEVENT
BEGIN:VEVENT
DTSTART;VALUE=DATE:20251013
DTEND;VALUE=DATE:20251025
DTSTAMP:20260420T135153
CREATED:20250907T071113Z
LAST-MODIFIED:20250907T071122Z
UID:6412-1760313600-1761350399@www.bryantschool.org
SUMMARY:Annual Campaign
DESCRIPTION:
URL:https://www.bryantschool.org/event/annual-campaign-2025/
END:VEVENT
BEGIN:VEVENT
DTSTART;VALUE=DATE:20251013
DTEND;VALUE=DATE:20251017
DTSTAMP:20260420T135153
CREATED:20250907T071158Z
LAST-MODIFIED:20250907T071158Z
UID:6414-1760313600-1760659199@www.bryantschool.org
SUMMARY:5th Grade Islandwood
DESCRIPTION:
URL:https://www.bryantschool.org/event/5th-grade-islandwood-2025/
END:VEVENT
BEGIN:VEVENT
DTSTART;VALUE=DATE:20251010
DTEND;VALUE=DATE:20251011
DTSTAMP:20260420T135153
CREATED:20250901T044403Z
LAST-MODIFIED:20250901T044403Z
UID:6379-1760054400-1760140799@www.bryantschool.org
SUMMARY:No School - Professional Development Day
DESCRIPTION:
URL:https://www.bryantschool.org/event/no-school-professional-development-day/
END:VEVENT
BEGIN:VEVENT
DTSTART;VALUE=DATE:20251009
DTEND;VALUE=DATE:20251010
DTSTAMP:20260420T135153
CREATED:20250828T050043Z
LAST-MODIFIED:20251007T083546Z
UID:6353-1759968000-1760054399@www.bryantschool.org
SUMMARY:Curriculum Night\, Grades K-4
DESCRIPTION:
URL:https://www.bryantschool.org/event/curriculum-night_2025/
END:VEVENT
BEGIN:VEVENT
DTSTART;TZID=America/Los_Angeles:20251008T190000
DTEND;TZID=America/Los_Angeles:20251008T210000
DTSTAMP:20260420T135153
CREATED:20251007T083845Z
LAST-MODIFIED:20251007T083845Z
UID:6509-1759950000-1759957200@www.bryantschool.org
SUMMARY:Art Committee 2025 Kickoff
DESCRIPTION:Art Committee 2025 Kickoff – Y’all are invited!
URL:https://www.bryantschool.org/event/art-committee-2025-kickoff/
LOCATION:Project 9 Brewing
END:VEVENT
BEGIN:VEVENT
DTSTART;VALUE=DATE:20251008
DTEND;VALUE=DATE:20251009
DTSTAMP:20260420T135153
CREATED:20251007T084515Z
LAST-MODIFIED:20251007T084515Z
UID:6525-1759881600-1759967999@www.bryantschool.org
SUMMARY:Walktober Wednesdays
DESCRIPTION:Walktober Wednesdays \n \n 
URL:https://www.bryantschool.org/event/walktober-wednesdays-1008/
END:VEVENT
BEGIN:VEVENT
DTSTART;TZID=America/Los_Angeles:20250912T180000
DTEND;TZID=America/Los_Angeles:20250912T180000
DTSTAMP:20260420T135153
CREATED:20250828T050021Z
LAST-MODIFIED:20250828T050114Z
UID:6351-1757700000-1757700000@www.bryantschool.org
SUMMARY:Ice Cream Social
DESCRIPTION:Ice Cream Social 9/12 at 6pm at Bryant Playground- Bring cash 
URL:https://www.bryantschool.org/event/ice-cream-social_2025/
LOCATION:Bryant School Yard
END:VEVENT
BEGIN:VEVENT
DTSTART;TZID=America/Los_Angeles:20250908T073000
DTEND;TZID=America/Los_Angeles:20250908T203000
DTSTAMP:20260420T135153
CREATED:20250829T220113Z
LAST-MODIFIED:20250829T220432Z
UID:6365-1757316600-1757363400@www.bryantschool.org
SUMMARY:Coffee & Doughnut Holes Gathering
DESCRIPTION:Join us for Coffee & Doughnut Holes on Monday\, September 8th after drop-off.\nWe’ll be in the school garden from 7:30–8:30 AM — swing by for a treat and to\nsay hello. All are welcome!
URL:https://www.bryantschool.org/event/coffee-doughnut-holes-gathering-2025/
LOCATION:Bryant School Garden
END:VEVENT
BEGIN:VEVENT
DTSTART;VALUE=DATE:20250908
DTEND;VALUE=DATE:20250909
DTSTAMP:20260420T135153
CREATED:20250901T044143Z
LAST-MODIFIED:20250901T044311Z
UID:6374-1757289600-1757375999@www.bryantschool.org
SUMMARY:1st Day of School - Kindergarten
DESCRIPTION:
URL:https://www.bryantschool.org/event/1st-day-of-school-kindergarten-2025-26/
END:VEVENT
BEGIN:VEVENT
DTSTART;VALUE=DATE:20250908
DTEND;VALUE=DATE:20250909
DTSTAMP:20260420T135153
CREATED:20250114T211959Z
LAST-MODIFIED:20250114T211959Z
UID:6067-1757289600-1757375999@www.bryantschool.org
SUMMARY:First Day Welcome
DESCRIPTION:Tentative
URL:https://www.bryantschool.org/event/first-day-welcome-2025/
END:VEVENT
BEGIN:VEVENT
DTSTART;VALUE=DATE:20250903
DTEND;VALUE=DATE:20250904
DTSTAMP:20260420T135153
CREATED:20250901T044249Z
LAST-MODIFIED:20250901T045545Z
UID:6376-1756857600-1756943999@www.bryantschool.org
SUMMARY:1st Day of School - 1st-5th Grade
DESCRIPTION:
URL:https://www.bryantschool.org/event/1st-day-of-school-2025-26/
END:VEVENT
BEGIN:VEVENT
DTSTART;TZID=America/Los_Angeles:20250902T150000
DTEND;TZID=America/Los_Angeles:20250902T160000
DTSTAMP:20260420T135153
CREATED:20250829T215944Z
LAST-MODIFIED:20250829T215944Z
UID:6363-1756825200-1756828800@www.bryantschool.org
SUMMARY:Back to Bryant
DESCRIPTION:Stop by to meet your new\nteacher\, tour your new classroom\, and reconnect with friends
URL:https://www.bryantschool.org/event/back-to-bryant-2025/
END:VEVENT
BEGIN:VEVENT
DTSTART;TZID=America/Los_Angeles:20250821T090000
DTEND;TZID=America/Los_Angeles:20250821T120000
DTSTAMP:20260420T135153
CREATED:20250114T211857Z
LAST-MODIFIED:20250114T211857Z
UID:6065-1755766800-1755777600@www.bryantschool.org
SUMMARY:Kindergarten Spark
DESCRIPTION:Please see https://www.bryantschool.org/new-family-resources/#spark for details.
URL:https://www.bryantschool.org/event/kindergarten-spark/
LOCATION:Bryant Elementary
END:VEVENT
BEGIN:VEVENT
DTSTART;TZID=America/Los_Angeles:20250820T090000
DTEND;TZID=America/Los_Angeles:20250820T120000
DTSTAMP:20260420T135153
CREATED:20250114T211754Z
LAST-MODIFIED:20250114T211808Z
UID:6063-1755680400-1755691200@www.bryantschool.org
SUMMARY:Kindergarten Spark
DESCRIPTION:Please see https://www.bryantschool.org/new-family-resources/#spark for details.
URL:https://www.bryantschool.org/event/kindergarten-spark-day1-2025/
LOCATION:Bryant Elementary
END:VEVENT
BEGIN:VEVENT
DTSTART;VALUE=DATE:20250619
DTEND;VALUE=DATE:20250620
DTSTAMP:20260420T135153
CREATED:20240824T050610Z
LAST-MODIFIED:20240824T050610Z
UID:5780-1750291200-1750377599@www.bryantschool.org
SUMMARY:Juneteenth (staff holiday\, no school when school is in session)
DESCRIPTION:
URL:https://www.bryantschool.org/event/juneteenth-2025/
CATEGORIES:No School
END:VEVENT
BEGIN:VEVENT
DTSTART;VALUE=DATE:20250618
DTEND;VALUE=DATE:20250619
DTSTAMP:20260420T135153
CREATED:20240824T050534Z
LAST-MODIFIED:20240824T050534Z
UID:5778-1750204800-1750291199@www.bryantschool.org
SUMMARY:Last day of school (1-hour early dismissal)
DESCRIPTION:
URL:https://www.bryantschool.org/event/last-day-of-school-2025/
END:VEVENT
BEGIN:VEVENT
DTSTART;VALUE=DATE:20250616
DTEND;VALUE=DATE:20250617
DTSTAMP:20260420T135153
CREATED:20240905T062852Z
LAST-MODIFIED:20240905T062852Z
UID:5876-1750032000-1750118399@www.bryantschool.org
SUMMARY:Awards Assembly
DESCRIPTION:
URL:https://www.bryantschool.org/event/awards-assembly-2025/
END:VEVENT
BEGIN:VEVENT
DTSTART;TZID=America/Los_Angeles:20250610T190000
DTEND;TZID=America/Los_Angeles:20250610T203000
DTSTAMP:20260420T135153
CREATED:20240824T054020Z
LAST-MODIFIED:20240824T054020Z
UID:5806-1749582000-1749587400@www.bryantschool.org
SUMMARY:Bryant PTSA General Meeting
DESCRIPTION:All PTSA Members and Bryant families are encouraged to attend General Membership meetings.
URL:https://www.bryantschool.org/event/bryant-ptsa-general-meeting-202506/
LOCATION:Bryant Elementary Library
CATEGORIES:Monthly PTSA Meetings
END:VEVENT
BEGIN:VEVENT
DTSTART;VALUE=DATE:20250606
DTEND;VALUE=DATE:20250607
DTSTAMP:20260420T135153
CREATED:20240905T062818Z
LAST-MODIFIED:20240905T062818Z
UID:5874-1749168000-1749254399@www.bryantschool.org
SUMMARY:Field Day
DESCRIPTION:
URL:https://www.bryantschool.org/event/field-day-2025/
END:VEVENT
BEGIN:VEVENT
DTSTART;TZID=America/Los_Angeles:20250605T173000
DTEND;TZID=America/Los_Angeles:20250605T190000
DTSTAMP:20260420T135153
CREATED:20250114T212057Z
LAST-MODIFIED:20250603T222628Z
UID:6069-1749144600-1749150000@www.bryantschool.org
SUMMARY:New Family Night
DESCRIPTION:Please see https://www.bryantschool.org/category/ptsa-events/new-family-night/ for more information.
URL:https://www.bryantschool.org/event/new-family-night-2025/
END:VEVENT
BEGIN:VEVENT
DTSTART;TZID=America/Los_Angeles:20250530T180000
DTEND;TZID=America/Los_Angeles:20250530T190000
DTSTAMP:20260420T135153
CREATED:20250520T072043Z
LAST-MODIFIED:20250520T072043Z
UID:6296-1748628000-1748631600@www.bryantschool.org
SUMMARY:Bryant Obstacles & Popsicles
DESCRIPTION:For more information\, please see https://www.bryantschool.org/category/extracurricular/bike-to-bryant/
URL:https://www.bryantschool.org/event/bryant-obstacles-popsicles/
END:VEVENT
BEGIN:VEVENT
DTSTART;VALUE=DATE:20250526
DTEND;VALUE=DATE:20250527
DTSTAMP:20260420T135153
CREATED:20240824T050451Z
LAST-MODIFIED:20240824T050451Z
UID:5776-1748217600-1748303999@www.bryantschool.org
SUMMARY:Memorial Day (no school)
DESCRIPTION:
URL:https://www.bryantschool.org/event/memorial-day-no-school-2025/
CATEGORIES:No School
END:VEVENT
BEGIN:VEVENT
DTSTART;VALUE=DATE:20250522
DTEND;VALUE=DATE:20250523
DTSTAMP:20260420T135153
CREATED:20250114T212601Z
LAST-MODIFIED:20250114T212601Z
UID:6074-1747872000-1747958399@www.bryantschool.org
SUMMARY:Writers Celebration
DESCRIPTION:Please see https://www.bryantschool.org/category/ptsa-events/writers-celebration/ for updates.
URL:https://www.bryantschool.org/event/writers-celebration-2025/
END:VEVENT
BEGIN:VEVENT
DTSTART;VALUE=DATE:20250520
DTEND;VALUE=DATE:20250521
DTSTAMP:20260420T135153
CREATED:20250109T055443Z
LAST-MODIFIED:20250109T055443Z
UID:6034-1747699200-1747785599@www.bryantschool.org
SUMMARY:Student Hunger Service Project - 3rd & 4th Grade
DESCRIPTION:See Student Hunger Service Project | Bryant PTSA for details.
URL:https://www.bryantschool.org/event/student-hunger-service-project-3rd-4th-grade/
END:VEVENT
BEGIN:VEVENT
DTSTART;TZID=America/Los_Angeles:20250515T183000
DTEND;TZID=America/Los_Angeles:20250515T193000
DTSTAMP:20260420T135153
CREATED:20250311T074624Z
LAST-MODIFIED:20250311T074639Z
UID:6171-1747333800-1747337400@www.bryantschool.org
SUMMARY:Bryant Science Night
DESCRIPTION:Please see https://www.bryantschool.org/category/ptsa-events/k-5-science-night/ for more information.
URL:https://www.bryantschool.org/event/bryant-science-night-2025/
END:VEVENT
BEGIN:VEVENT
DTSTART;VALUE=DATE:20250513
DTEND;VALUE=DATE:20250514
DTSTAMP:20260420T135153
CREATED:20240824T053731Z
LAST-MODIFIED:20240824T053731Z
UID:5802-1747094400-1747180799@www.bryantschool.org
SUMMARY:Bryant PTSA Board Business Meeting
DESCRIPTION:
URL:https://www.bryantschool.org/event/bryant-ptsa-board-business-meeting-202505/
CATEGORIES:Monthly PTSA Meetings
END:VEVENT
END:VCALENDAR