BEGIN:VCALENDAR
VERSION:2.0
PRODID:-//Bryant PTSA - ECPv6.15.20//NONSGML v1.0//EN
CALSCALE:GREGORIAN
METHOD:PUBLISH
X-WR-CALNAME:Bryant PTSA
X-ORIGINAL-URL:https://www.bryantschool.org
X-WR-CALDESC:Events for Bryant PTSA
REFRESH-INTERVAL;VALUE=DURATION:PT1H
X-Robots-Tag:noindex
X-PUBLISHED-TTL:PT1H
BEGIN:VTIMEZONE
TZID:America/Los_Angeles
BEGIN:DAYLIGHT
TZOFFSETFROM:-0800
TZOFFSETTO:-0700
TZNAME:PDT
DTSTART:20220313T100000
END:DAYLIGHT
BEGIN:STANDARD
TZOFFSETFROM:-0700
TZOFFSETTO:-0800
TZNAME:PST
DTSTART:20221106T090000
END:STANDARD
BEGIN:DAYLIGHT
TZOFFSETFROM:-0800
TZOFFSETTO:-0700
TZNAME:PDT
DTSTART:20230312T100000
END:DAYLIGHT
BEGIN:STANDARD
TZOFFSETFROM:-0700
TZOFFSETTO:-0800
TZNAME:PST
DTSTART:20231105T090000
END:STANDARD
BEGIN:DAYLIGHT
TZOFFSETFROM:-0800
TZOFFSETTO:-0700
TZNAME:PDT
DTSTART:20240310T100000
END:DAYLIGHT
BEGIN:STANDARD
TZOFFSETFROM:-0700
TZOFFSETTO:-0800
TZNAME:PST
DTSTART:20241103T090000
END:STANDARD
END:VTIMEZONE
BEGIN:VEVENT
DTSTART;TZID=America/Los_Angeles:20230905T150000
DTEND;TZID=America/Los_Angeles:20230905T160000
DTSTAMP:20260421T233902
CREATED:20230829T044810Z
LAST-MODIFIED:20230912T004605Z
UID:5286-1693926000-1693929600@www.bryantschool.org
SUMMARY:Back-to-Bryant
DESCRIPTION:
URL:https://www.bryantschool.org/event/back-to-bryant_2023/
LOCATION:Bryant Elementary
END:VEVENT
BEGIN:VEVENT
DTSTART;VALUE=DATE:20230906
DTEND;VALUE=DATE:20230907
DTSTAMP:20260421T233902
CREATED:20230829T044914Z
LAST-MODIFIED:20230829T044935Z
UID:5288-1693958400-1694044799@www.bryantschool.org
SUMMARY:1st day of school grades 1-5
DESCRIPTION:
URL:https://www.bryantschool.org/event/1st-day-of-school-grades-1-5_2023/
END:VEVENT
BEGIN:VEVENT
DTSTART;TZID=America/Los_Angeles:20230908T183000
DTEND;TZID=America/Los_Angeles:20230908T200000
DTSTAMP:20260421T233902
CREATED:20230829T045053Z
LAST-MODIFIED:20230829T045212Z
UID:5290-1694197800-1694203200@www.bryantschool.org
SUMMARY:Ice Cream Social
DESCRIPTION:
URL:https://www.bryantschool.org/event/ice-cream-social-2023/
END:VEVENT
BEGIN:VEVENT
DTSTART;VALUE=DATE:20230911
DTEND;VALUE=DATE:20230912
DTSTAMP:20260421T233902
CREATED:20230829T045130Z
LAST-MODIFIED:20230829T045130Z
UID:5292-1694390400-1694476799@www.bryantschool.org
SUMMARY:1st day of school Kindergarten
DESCRIPTION:
URL:https://www.bryantschool.org/event/1st-day-of-school-kindergarten/
END:VEVENT
BEGIN:VEVENT
DTSTART;TZID=America/Los_Angeles:20230912T190000
DTEND;TZID=America/Los_Angeles:20230912T200000
DTSTAMP:20260421T233902
CREATED:20230909T010356Z
LAST-MODIFIED:20230912T055503Z
UID:5298-1694545200-1694548800@www.bryantschool.org
SUMMARY:Bryant PTSA Board Business Meeting
DESCRIPTION:
URL:https://www.bryantschool.org/event/ptsa-general-meeting-092023/
CATEGORIES:Monthly PTSA Meetings
END:VEVENT
BEGIN:VEVENT
DTSTART;TZID=America/Los_Angeles:20230921T170000
DTEND;TZID=America/Los_Angeles:20230921T193000
DTSTAMP:20260421T233902
CREATED:20230909T010520Z
LAST-MODIFIED:20230919T204638Z
UID:5301-1695315600-1695324600@www.bryantschool.org
SUMMARY:Curriculum Night
DESCRIPTION:Meet your child’s teacher and school staff at Bryant Curriculum night this Thursday. In addition to learning about your child’s classroom\, we invite you to learn about the Bryant PTSA and how to get involved. We will have sign up sheets at the entrance and are holding two info sessions. Find out about volunteer openings\, PTSA membership\, and the annual campaign.  \nBryant PTSA: 5:05 p.m.-5:15 p.m. and 7:20 p.m.-7:30 p.m.; library \n1st grade: 5:45 p.m.– 6:25 (5:45 p.m.-6:05 p.m. in library) \n2nd grade: 6:35 p.m.-7:15 p.m.\, library   \n3rd Grade: 6:15 p.m.-6:35 p.m. library; 6:40 p.m.-7:15 p.m. individual classrooms   \n4th grade 6:30 p.m.– 7:10 p.m.   \n5th Grade: 5:30 p.m.–6:10 p.m.
URL:https://www.bryantschool.org/event/curriculum-night-2023/
END:VEVENT
BEGIN:VEVENT
DTSTART;TZID=America/Los_Angeles:20230922T183000
DTEND;TZID=America/Los_Angeles:20230922T223000
DTSTAMP:20260421T233902
CREATED:20230910T193810Z
LAST-MODIFIED:20230910T201632Z
UID:5330-1695407400-1695421800@www.bryantschool.org
SUMMARY:Laser Parent Night Out: Adventure is at Laser
DESCRIPTION:LASER offers Parent Night Out (PNO) each month of the year (except for summer) at our Bryant location on a specified Friday from 6:30 pm to 10:30 pm.  While themes vary per month\, all Parent Night Outs include a movie\, dinner\, game\, craft\, and snack.  \nChildren do not need to be registered in LASER in order to attend a Parent Night Out\, but they must be between the ages of 5 to 12 years old.  The cost is $40 for one child and $30 for each additional sibling. 
URL:https://www.bryantschool.org/event/laser-parent-night-out/
LOCATION:Bryant Elementary
CATEGORIES:Parent Night Out
ATTACH;FMTTYPE=image/png:https://www.bryantschool.org/wp-content/uploads/2023/09/Adventure_laser.png
END:VEVENT
END:VCALENDAR