BEGIN:VCALENDAR
VERSION:2.0
PRODID:-//Bryant PTSA - ECPv6.15.20//NONSGML v1.0//EN
CALSCALE:GREGORIAN
METHOD:PUBLISH
X-WR-CALNAME:Bryant PTSA
X-ORIGINAL-URL:https://www.bryantschool.org
X-WR-CALDESC:Events for Bryant PTSA
REFRESH-INTERVAL;VALUE=DURATION:PT1H
X-Robots-Tag:noindex
X-PUBLISHED-TTL:PT1H
BEGIN:VTIMEZONE
TZID:America/Los_Angeles
BEGIN:DAYLIGHT
TZOFFSETFROM:-0800
TZOFFSETTO:-0700
TZNAME:PDT
DTSTART:20220313T100000
END:DAYLIGHT
BEGIN:STANDARD
TZOFFSETFROM:-0700
TZOFFSETTO:-0800
TZNAME:PST
DTSTART:20221106T090000
END:STANDARD
BEGIN:DAYLIGHT
TZOFFSETFROM:-0800
TZOFFSETTO:-0700
TZNAME:PDT
DTSTART:20230312T100000
END:DAYLIGHT
BEGIN:STANDARD
TZOFFSETFROM:-0700
TZOFFSETTO:-0800
TZNAME:PST
DTSTART:20231105T090000
END:STANDARD
BEGIN:DAYLIGHT
TZOFFSETFROM:-0800
TZOFFSETTO:-0700
TZNAME:PDT
DTSTART:20240310T100000
END:DAYLIGHT
BEGIN:STANDARD
TZOFFSETFROM:-0700
TZOFFSETTO:-0800
TZNAME:PST
DTSTART:20241103T090000
END:STANDARD
END:VTIMEZONE
BEGIN:VEVENT
DTSTART;VALUE=DATE:20231016
DTEND;VALUE=DATE:20231116
DTSTAMP:20260421T044907
CREATED:20230912T004701Z
LAST-MODIFIED:20231015T234143Z
UID:5370-1697414400-1700092799@www.bryantschool.org
SUMMARY:Annual Campaign - October
DESCRIPTION:See Annual Campaign/Fundraising | Bryant PTSA (bryantschool.org)
URL:https://www.bryantschool.org/event/annual-campaign-2023/
CATEGORIES:PSTA Events
END:VEVENT
BEGIN:VEVENT
DTSTART;VALUE=DATE:20231110
DTEND;VALUE=DATE:20231111
DTSTAMP:20260421T044907
CREATED:20230910T191614Z
LAST-MODIFIED:20230910T192252Z
UID:5308-1699574400-1699660799@www.bryantschool.org
SUMMARY:Veteran's Day Observed (No School)
DESCRIPTION:
URL:https://www.bryantschool.org/event/veterans-day-observed-no-school/
CATEGORIES:No School
END:VEVENT
BEGIN:VEVENT
DTSTART;VALUE=DATE:20231114
DTEND;VALUE=DATE:20231115
DTSTAMP:20260421T044907
CREATED:20230912T055544Z
LAST-MODIFIED:20230912T055544Z
UID:5408-1699920000-1700006399@www.bryantschool.org
SUMMARY:Bryant PTSA Board Business Meeting
DESCRIPTION:
URL:https://www.bryantschool.org/event/bryant-ptsa-board-business-meeting/
END:VEVENT
BEGIN:VEVENT
DTSTART;TZID=America/Los_Angeles:20231117T183000
DTEND;TZID=America/Los_Angeles:20231117T223000
DTSTAMP:20260421T044907
CREATED:20230910T195203Z
LAST-MODIFIED:20230910T195719Z
UID:5338-1700245800-1700260200@www.bryantschool.org
SUMMARY:Laser Parent Night Out: Woodland Wonderland
DESCRIPTION:LASER offers Parent Night Out (PNO) each month of the year (except for summer) at our Bryant location on a specified Friday from 6:30 pm to 10:30 pm.  While themes vary per month\, all Parent Night Outs include a movie\, dinner\, game\, craft\, and snack.  \nChildren do not need to be registered in LASER in order to attend a Parent Night Out\, but they must be between the ages of 5 to 12 years old.  The cost is $40 for one child and $30 for each additional sibling.
URL:https://www.bryantschool.org/event/laser-parent-night-out-woodland-wonderland/
LOCATION:Bryant Elementary
CATEGORIES:Parent Night Out
END:VEVENT
BEGIN:VEVENT
DTSTART;VALUE=DATE:20231120
DTEND;VALUE=DATE:20231123
DTSTAMP:20260421T044907
CREATED:20230910T191734Z
LAST-MODIFIED:20230910T191734Z
UID:5310-1700438400-1700697599@www.bryantschool.org
SUMMARY:Elementary conference days
DESCRIPTION:
URL:https://www.bryantschool.org/event/elementary-conference-days/
END:VEVENT
BEGIN:VEVENT
DTSTART;VALUE=DATE:20231123
DTEND;VALUE=DATE:20231125
DTSTAMP:20260421T044907
CREATED:20230910T191808Z
LAST-MODIFIED:20230910T192245Z
UID:5312-1700697600-1700870399@www.bryantschool.org
SUMMARY:Thanksgiving and Native American Heritage Day (No School)
DESCRIPTION:
URL:https://www.bryantschool.org/event/thanksgiving-and-native-american-heritage-day-no-school/
CATEGORIES:No School
END:VEVENT
BEGIN:VEVENT
DTSTART;VALUE=DATE:20231128
DTEND;VALUE=DATE:20231129
DTSTAMP:20260421T044907
CREATED:20230912T041529Z
LAST-MODIFIED:20230912T041537Z
UID:5378-1701129600-1701215999@www.bryantschool.org
SUMMARY:Photo Retakes
DESCRIPTION:
URL:https://www.bryantschool.org/event/photo-retakes-2023/
END:VEVENT
END:VCALENDAR