BEGIN:VCALENDAR
VERSION:2.0
PRODID:-//Bryant PTSA - ECPv6.15.20//NONSGML v1.0//EN
CALSCALE:GREGORIAN
METHOD:PUBLISH
X-WR-CALNAME:Bryant PTSA
X-ORIGINAL-URL:https://www.bryantschool.org
X-WR-CALDESC:Events for Bryant PTSA
REFRESH-INTERVAL;VALUE=DURATION:PT1H
X-Robots-Tag:noindex
X-PUBLISHED-TTL:PT1H
BEGIN:VTIMEZONE
TZID:America/Los_Angeles
BEGIN:DAYLIGHT
TZOFFSETFROM:-0800
TZOFFSETTO:-0700
TZNAME:PDT
DTSTART:20220313T100000
END:DAYLIGHT
BEGIN:STANDARD
TZOFFSETFROM:-0700
TZOFFSETTO:-0800
TZNAME:PST
DTSTART:20221106T090000
END:STANDARD
BEGIN:DAYLIGHT
TZOFFSETFROM:-0800
TZOFFSETTO:-0700
TZNAME:PDT
DTSTART:20230312T100000
END:DAYLIGHT
BEGIN:STANDARD
TZOFFSETFROM:-0700
TZOFFSETTO:-0800
TZNAME:PST
DTSTART:20231105T090000
END:STANDARD
BEGIN:DAYLIGHT
TZOFFSETFROM:-0800
TZOFFSETTO:-0700
TZNAME:PDT
DTSTART:20240310T100000
END:DAYLIGHT
BEGIN:STANDARD
TZOFFSETFROM:-0700
TZOFFSETTO:-0800
TZNAME:PST
DTSTART:20241103T090000
END:STANDARD
BEGIN:DAYLIGHT
TZOFFSETFROM:-0800
TZOFFSETTO:-0700
TZNAME:PDT
DTSTART:20250309T100000
END:DAYLIGHT
BEGIN:STANDARD
TZOFFSETFROM:-0700
TZOFFSETTO:-0800
TZNAME:PST
DTSTART:20251102T090000
END:STANDARD
END:VTIMEZONE
BEGIN:VEVENT
DTSTART;TZID=America/Los_Angeles:20231201T183000
DTEND;TZID=America/Los_Angeles:20231201T223000
DTSTAMP:20260421T000008
CREATED:20230910T195356Z
LAST-MODIFIED:20230910T195617Z
UID:5340-1701455400-1701469800@www.bryantschool.org
SUMMARY:Laser Parent Night Out: Holiday Party
DESCRIPTION:LASER offers Parent Night Out (PNO) each month of the year (except for summer) at our Bryant location on a specified Friday from 6:30 pm to 10:30 pm.  While themes vary per month\, all Parent Night Outs include a movie\, dinner\, game\, craft\, and snack.  \nChildren do not need to be registered in LASER in order to attend a Parent Night Out\, but they must be between the ages of 5 to 12 years old.  The cost is $40 for one child and $30 for each additional sibling.  
URL:https://www.bryantschool.org/event/laser-parent-night-out-holiday-party/
LOCATION:Bryant Elementary
CATEGORIES:Parent Night Out
END:VEVENT
BEGIN:VEVENT
DTSTART;TZID=America/Los_Angeles:20231205T183000
DTEND;TZID=America/Los_Angeles:20231205T193000
DTSTAMP:20260421T000008
CREATED:20230912T041746Z
LAST-MODIFIED:20231117T165935Z
UID:5384-1701801000-1701804600@www.bryantschool.org
SUMMARY:Reflections Showcase
DESCRIPTION:Please see Reflections Art Competition | Bryant PTSA (bryantschool.org) for more information.
URL:https://www.bryantschool.org/event/reflections-showcase-2023/
END:VEVENT
BEGIN:VEVENT
DTSTART;TZID=America/Los_Angeles:20231211T181500
DTEND;TZID=America/Los_Angeles:20231211T200000
DTSTAMP:20260421T000008
CREATED:20231208T200743Z
LAST-MODIFIED:20231208T200931Z
UID:5535-1702318500-1702324800@www.bryantschool.org
SUMMARY:Finding Nemo KIDS: Casting Night
DESCRIPTION:See https://www.bryantschool.org/category/ptsa-events/4th-5th-grade-school-play/ for more info
URL:https://www.bryantschool.org/event/finding-nemo-kids-casting-night_1211/
LOCATION:Bryant cafeteria
END:VEVENT
BEGIN:VEVENT
DTSTART;VALUE=DATE:20231212
DTEND;VALUE=DATE:20231213
DTSTAMP:20260421T000008
CREATED:20230912T055622Z
LAST-MODIFIED:20230912T055633Z
UID:5410-1702339200-1702425599@www.bryantschool.org
SUMMARY:Bryant PTSA Board Business Meeting
DESCRIPTION:
URL:https://www.bryantschool.org/event/bryant-ptsa-board-business-meeting-122023/
END:VEVENT
BEGIN:VEVENT
DTSTART;TZID=America/Los_Angeles:20231213T181500
DTEND;TZID=America/Los_Angeles:20231213T200000
DTSTAMP:20260421T000008
CREATED:20231208T200828Z
LAST-MODIFIED:20231208T200925Z
UID:5537-1702491300-1702497600@www.bryantschool.org
SUMMARY:Finding Nemo KIDS: Casting Night
DESCRIPTION:See https://www.bryantschool.org/category/ptsa-events/4th-5th-grade-school-play/ for more info
URL:https://www.bryantschool.org/event/finding-nemo-kids-casting-night_1213/
LOCATION:Bryant cafeteria
END:VEVENT
BEGIN:VEVENT
DTSTART;VALUE=DATE:20231215
DTEND;VALUE=DATE:20231216
DTSTAMP:20260421T000008
CREATED:20230910T191840Z
LAST-MODIFIED:20230910T191840Z
UID:5314-1702598400-1702684799@www.bryantschool.org
SUMMARY:1-hour early dismissal
DESCRIPTION:
URL:https://www.bryantschool.org/event/1-hour-early-dismissal-2/
END:VEVENT
BEGIN:VEVENT
DTSTART;VALUE=DATE:20231218
DTEND;VALUE=DATE:20240102
DTSTAMP:20260421T000008
CREATED:20230910T191917Z
LAST-MODIFIED:20230910T192237Z
UID:5316-1702857600-1704153599@www.bryantschool.org
SUMMARY:Winter break (No School)
DESCRIPTION:
URL:https://www.bryantschool.org/event/winter-break-no-school/
CATEGORIES:No School
END:VEVENT
END:VCALENDAR