BEGIN:VCALENDAR
VERSION:2.0
PRODID:-//Bryant PTSA - ECPv6.15.20//NONSGML v1.0//EN
CALSCALE:GREGORIAN
METHOD:PUBLISH
X-ORIGINAL-URL:https://www.bryantschool.org
X-WR-CALDESC:Events for Bryant PTSA
REFRESH-INTERVAL;VALUE=DURATION:PT1H
X-Robots-Tag:noindex
X-PUBLISHED-TTL:PT1H
BEGIN:VTIMEZONE
TZID:America/Los_Angeles
BEGIN:DAYLIGHT
TZOFFSETFROM:-0800
TZOFFSETTO:-0700
TZNAME:PDT
DTSTART:20230312T100000
END:DAYLIGHT
BEGIN:STANDARD
TZOFFSETFROM:-0700
TZOFFSETTO:-0800
TZNAME:PST
DTSTART:20231105T090000
END:STANDARD
BEGIN:DAYLIGHT
TZOFFSETFROM:-0800
TZOFFSETTO:-0700
TZNAME:PDT
DTSTART:20240310T100000
END:DAYLIGHT
BEGIN:STANDARD
TZOFFSETFROM:-0700
TZOFFSETTO:-0800
TZNAME:PST
DTSTART:20241103T090000
END:STANDARD
BEGIN:DAYLIGHT
TZOFFSETFROM:-0800
TZOFFSETTO:-0700
TZNAME:PDT
DTSTART:20250309T100000
END:DAYLIGHT
BEGIN:STANDARD
TZOFFSETFROM:-0700
TZOFFSETTO:-0800
TZNAME:PST
DTSTART:20251102T090000
END:STANDARD
END:VTIMEZONE
BEGIN:VEVENT
DTSTART;VALUE=DATE:20240329
DTEND;VALUE=DATE:20240406
DTSTAMP:20260420T034953
CREATED:20240311T165626Z
LAST-MODIFIED:20240328T231917Z
UID:5628-1711670400-1712361599@www.bryantschool.org
SUMMARY:Bryant Online Auction
DESCRIPTION:See Online Auction | Bryant PTSA (bryantschool.org) for more information
URL:https://www.bryantschool.org/event/bryant-online-auction-2024/
END:VEVENT
BEGIN:VEVENT
DTSTART;TZID=America/Los_Angeles:20240403T183000
DTEND;TZID=America/Los_Angeles:20240403T193000
DTSTAMP:20260420T034953
CREATED:20240311T173628Z
LAST-MODIFIED:20240325T182208Z
UID:5637-1712169000-1712172600@www.bryantschool.org
SUMMARY:Science Night for K-5
DESCRIPTION:
URL:https://www.bryantschool.org/event/science-night-2024/
END:VEVENT
BEGIN:VEVENT
DTSTART;TZID=America/Los_Angeles:20240405T183000
DTEND;TZID=America/Los_Angeles:20240405T191500
DTSTAMP:20260420T034953
CREATED:20231117T171108Z
LAST-MODIFIED:20240328T231427Z
UID:5506-1712341800-1712344500@www.bryantschool.org
SUMMARY:HIP Packing Party\, 5th grade
DESCRIPTION:See Student Hunger Service Project | Bryant PTSA (bryantschool.org) for more information. \n  \n5th grade families\, donations by 4/3 & packing party 4/5!\n\nThe HIP Packing Party will be Friday evening 4/5 in the cafeteria from 6:30-7:15pm! Food donations must be dropped off at school by 2pm on Wednesday\, 4/3. Collection bins are located in the main office and each 5th grade classroom. \nPlease sign up to donate food and volunteer to help! We need food donations for specific items and parent volunteers at the packing party. All food drive donations need to be recorded on the Sign-up Genius so we can confirm we have the correct quantities of items to make our goal of 125 healthy HIP packs. \nIf you aren’t able to purchase and bring food to school but still want to contribute\, we have a GivingFuel page so you can donate money which will be used to purchase any remaining items needed. \nWe need your help! Last year HIP saw a significant increase in demand for Healthy HIP Packs. The Bryant Student Hunger Service Project aims to provide a hands-on opportunity for our community to learn about and help students facing food insecurity every day in Seattle.
URL:https://www.bryantschool.org/event/hip-packing-party-5th-grade-2024-2/
END:VEVENT
BEGIN:VEVENT
DTSTART;VALUE=DATE:20240408
DTEND;VALUE=DATE:20240413
DTSTAMP:20260420T034953
CREATED:20230910T192128Z
LAST-MODIFIED:20230910T192219Z
UID:5322-1712534400-1712966399@www.bryantschool.org
SUMMARY:Spring break (No School)
DESCRIPTION:
URL:https://www.bryantschool.org/event/spring-break-no-school/
CATEGORIES:No School
END:VEVENT
BEGIN:VEVENT
DTSTART;VALUE=DATE:20240416
DTEND;VALUE=DATE:20240417
DTSTAMP:20260420T034953
CREATED:20230912T055818Z
LAST-MODIFIED:20240403T002536Z
UID:5416-1713225600-1713311999@www.bryantschool.org
SUMMARY:Bryant PTSA Board Business Meeting
DESCRIPTION:
URL:https://www.bryantschool.org/event/bryant-ptsa-board-business-meeting-042024/
END:VEVENT
BEGIN:VEVENT
DTSTART;TZID=America/Los_Angeles:20240419T183000
DTEND;TZID=America/Los_Angeles:20240419T223000
DTSTAMP:20260420T034953
CREATED:20230910T200314Z
LAST-MODIFIED:20230910T200314Z
UID:5350-1713551400-1713565800@www.bryantschool.org
SUMMARY:Laser Parent Night Out: Planet Earth
DESCRIPTION:LASER offers Parent Night Out (PNO) each month of the year (except for summer) at our Bryant location on a specified Friday from 6:30 pm to 10:30 pm.  While themes vary per month\, all Parent Night Outs include a movie\, dinner\, game\, craft\, and snack.  \nChildren do not need to be registered in LASER in order to attend a Parent Night Out\, but they must be between the ages of 5 to 12 years old.  The cost is $40 for one child and $30 for each additional sibling. 
URL:https://www.bryantschool.org/event/laser-parent-night-out-planet-earth/
LOCATION:Bryant Elementary
CATEGORIES:Parent Night Out
END:VEVENT
BEGIN:VEVENT
DTSTART;TZID=America/Los_Angeles:20240425T180000
DTEND;TZID=America/Los_Angeles:20240425T200000
DTSTAMP:20260420T034953
CREATED:20230912T042017Z
LAST-MODIFIED:20240417T173446Z
UID:5390-1714068000-1714075200@www.bryantschool.org
SUMMARY:Family Art Night
DESCRIPTION:Family Art Night (FAN)\n\nApril 25\, 2024\, 6-8 pm\n \n\n\n\nFamily Art Night (FAN) is a beloved Bryant PTSA event which began in 2014. Our theme this year is Wild About the Arts. This free event will take place on Thursday\, April 25\, from 6-8 pm at the school. \nOur goal is to promote the arts in the Bryant community through the exhibition of students’ artwork in the halls\, art activities in the gym and cafeteria\, and a performance on stage. \n\nHave fun exploring the variety of art activity tables in the gym and cafeteria!\nExplore the student artwork on display in the hallways and art room. Complete a Bingo sheet to get a prize.\nPeek into the art and music classrooms from 6-6:30 pm.\nMake art with Bryant’s art teacher\, Ms. Kristen\, and Artists-in-Residence\, Ms. Elaine and Ms. Kari\, as well as guest teaching artists.\nEnjoy listening to the Bryant choir perform on stage at 7 pm.\nTake silly pictures in the photo booth area.\nStop by the refreshment table for free snacks and lemonade.\n\n\nAll students and parents are invited to showcase their artistic talents in the Creative Creations Gallery.\n \n\n\nVOLUNTEER\nWe are looking for 5th graders\, older students\, and parent volunteers to help at Family Art Night. Signup for a shift here.\n \n 
URL:https://www.bryantschool.org/event/family-art-night-2024/
END:VEVENT
END:VCALENDAR