BEGIN:VCALENDAR
VERSION:2.0
PRODID:-//Bryant PTSA - ECPv6.15.20//NONSGML v1.0//EN
CALSCALE:GREGORIAN
METHOD:PUBLISH
X-WR-CALNAME:Bryant PTSA
X-ORIGINAL-URL:https://www.bryantschool.org
X-WR-CALDESC:Events for Bryant PTSA
REFRESH-INTERVAL;VALUE=DURATION:PT1H
X-Robots-Tag:noindex
X-PUBLISHED-TTL:PT1H
BEGIN:VTIMEZONE
TZID:America/Los_Angeles
BEGIN:DAYLIGHT
TZOFFSETFROM:-0800
TZOFFSETTO:-0700
TZNAME:PDT
DTSTART:20230312T100000
END:DAYLIGHT
BEGIN:STANDARD
TZOFFSETFROM:-0700
TZOFFSETTO:-0800
TZNAME:PST
DTSTART:20231105T090000
END:STANDARD
BEGIN:DAYLIGHT
TZOFFSETFROM:-0800
TZOFFSETTO:-0700
TZNAME:PDT
DTSTART:20240310T100000
END:DAYLIGHT
BEGIN:STANDARD
TZOFFSETFROM:-0700
TZOFFSETTO:-0800
TZNAME:PST
DTSTART:20241103T090000
END:STANDARD
BEGIN:DAYLIGHT
TZOFFSETFROM:-0800
TZOFFSETTO:-0700
TZNAME:PDT
DTSTART:20250309T100000
END:DAYLIGHT
BEGIN:STANDARD
TZOFFSETFROM:-0700
TZOFFSETTO:-0800
TZNAME:PST
DTSTART:20251102T090000
END:STANDARD
END:VTIMEZONE
BEGIN:VEVENT
DTSTART;VALUE=DATE:20240501
DTEND;VALUE=DATE:20240601
DTSTAMP:20260419T223928
CREATED:20230912T042109Z
LAST-MODIFIED:20240522T060907Z
UID:5392-1714521600-1717199999@www.bryantschool.org
SUMMARY:Bike to School Month (May)
DESCRIPTION:Please see Bike to Bryant | Bryant PTSA (bryantschool.org) for more information.
URL:https://www.bryantschool.org/event/bike-to-school-month-may-2024/
END:VEVENT
BEGIN:VEVENT
DTSTART;VALUE=DATE:20240502
DTEND;VALUE=DATE:20240503
DTSTAMP:20260419T223928
CREATED:20240502T070241Z
LAST-MODIFIED:20240502T070241Z
UID:5702-1714608000-1714694399@www.bryantschool.org
SUMMARY:Bike to School Day
DESCRIPTION:
URL:https://www.bryantschool.org/event/bike-to-school-day/
END:VEVENT
BEGIN:VEVENT
DTSTART;TZID=America/Los_Angeles:20240504T120000
DTEND;TZID=America/Los_Angeles:20240504T160000
DTSTAMP:20260419T223928
CREATED:20230912T042154Z
LAST-MODIFIED:20240328T233108Z
UID:5394-1714824000-1714838400@www.bryantschool.org
SUMMARY:Bryant Blast 2024
DESCRIPTION:When: May 4th\, 2024  \n\nTime: Noon-4pm\nLocation: Bryant Elementary Playground\, gym and cafeteria\nActivities: Games with prizes\, Gaga ball\, Face Painting\, Raffle cakes\, Raffle baskets and More!\nFood: Hot dogs\, Bahn-Mi\, Cookies and other snacks\nCost: The Bryant Blast is free to attend but activities and food require ticket purchase. Ticket pre-sale will happen in mid-April.
URL:https://www.bryantschool.org/event/bryant-blast-carnival-2024/
LOCATION:Bryant Elementary
END:VEVENT
BEGIN:VEVENT
DTSTART;VALUE=DATE:20240506
DTEND;VALUE=DATE:20240511
DTSTAMP:20260419T223928
CREATED:20230912T042250Z
LAST-MODIFIED:20230912T042250Z
UID:5398-1714953600-1715385599@www.bryantschool.org
SUMMARY:Teacher/Staff Appreciation Week
DESCRIPTION:
URL:https://www.bryantschool.org/event/teacher-staff-appreciation-week-2024/
END:VEVENT
BEGIN:VEVENT
DTSTART;VALUE=DATE:20240507
DTEND;VALUE=DATE:20240508
DTSTAMP:20260419T223928
CREATED:20230912T042220Z
LAST-MODIFIED:20230912T042220Z
UID:5396-1715040000-1715126399@www.bryantschool.org
SUMMARY:Class/Group Pictures
DESCRIPTION:
URL:https://www.bryantschool.org/event/class-group-pictures-2024/
END:VEVENT
BEGIN:VEVENT
DTSTART;VALUE=DATE:20240510
DTEND;VALUE=DATE:20240511
DTSTAMP:20260419T223928
CREATED:20231117T171144Z
LAST-MODIFIED:20231117T171144Z
UID:5508-1715299200-1715385599@www.bryantschool.org
SUMMARY:HIP Packing Party\, 1st grade
DESCRIPTION:
URL:https://www.bryantschool.org/event/hip-packing-party-1st-grade-2024/
END:VEVENT
BEGIN:VEVENT
DTSTART;VALUE=DATE:20240514
DTEND;VALUE=DATE:20240515
DTSTAMP:20260419T223928
CREATED:20230912T055850Z
LAST-MODIFIED:20230912T055901Z
UID:5418-1715644800-1715731199@www.bryantschool.org
SUMMARY:Bryant PTSA Board Business Meeting
DESCRIPTION:
URL:https://www.bryantschool.org/event/bryant-ptsa-board-business-meeting-052024/
END:VEVENT
BEGIN:VEVENT
DTSTART;TZID=America/Los_Angeles:20240517T183000
DTEND;TZID=America/Los_Angeles:20240517T223000
DTSTAMP:20260419T223928
CREATED:20230910T200434Z
LAST-MODIFIED:20230910T200434Z
UID:5352-1715970600-1715985000@www.bryantschool.org
SUMMARY:Laser Parent Night Out: Super Sports Soiree
DESCRIPTION:LASER offers Parent Night Out (PNO) each month of the year (except for summer) at our Bryant location on a specified Friday from 6:30 pm to 10:30 pm.  While themes vary per month\, all Parent Night Outs include a movie\, dinner\, game\, craft\, and snack.  \nChildren do not need to be registered in LASER in order to attend a Parent Night Out\, but they must be between the ages of 5 to 12 years old.  The cost is $40 for one child and $30 for each additional sibling. 
URL:https://www.bryantschool.org/event/laser-parent-night-out-super-sports-soiree/
LOCATION:Bryant Elementary
CATEGORIES:Parent Night Out
END:VEVENT
BEGIN:VEVENT
DTSTART;VALUE=DATE:20240527
DTEND;VALUE=DATE:20240528
DTSTAMP:20260419T223928
CREATED:20230910T192203Z
LAST-MODIFIED:20230910T192203Z
UID:5324-1716768000-1716854399@www.bryantschool.org
SUMMARY:Memorial Day (No School)
DESCRIPTION:
URL:https://www.bryantschool.org/event/memorial-day-no-school-2/
CATEGORIES:No School
END:VEVENT
END:VCALENDAR