BEGIN:VCALENDAR
VERSION:2.0
PRODID:-//Bryant PTSA - ECPv6.15.20//NONSGML v1.0//EN
CALSCALE:GREGORIAN
METHOD:PUBLISH
X-WR-CALNAME:Bryant PTSA
X-ORIGINAL-URL:https://www.bryantschool.org
X-WR-CALDESC:Events for Bryant PTSA
REFRESH-INTERVAL;VALUE=DURATION:PT1H
X-Robots-Tag:noindex
X-PUBLISHED-TTL:PT1H
BEGIN:VTIMEZONE
TZID:America/Los_Angeles
BEGIN:DAYLIGHT
TZOFFSETFROM:-0800
TZOFFSETTO:-0700
TZNAME:PDT
DTSTART:20230312T100000
END:DAYLIGHT
BEGIN:STANDARD
TZOFFSETFROM:-0700
TZOFFSETTO:-0800
TZNAME:PST
DTSTART:20231105T090000
END:STANDARD
BEGIN:DAYLIGHT
TZOFFSETFROM:-0800
TZOFFSETTO:-0700
TZNAME:PDT
DTSTART:20240310T100000
END:DAYLIGHT
BEGIN:STANDARD
TZOFFSETFROM:-0700
TZOFFSETTO:-0800
TZNAME:PST
DTSTART:20241103T090000
END:STANDARD
BEGIN:DAYLIGHT
TZOFFSETFROM:-0800
TZOFFSETTO:-0700
TZNAME:PDT
DTSTART:20250309T100000
END:DAYLIGHT
BEGIN:STANDARD
TZOFFSETFROM:-0700
TZOFFSETTO:-0800
TZNAME:PST
DTSTART:20251102T090000
END:STANDARD
END:VTIMEZONE
BEGIN:VEVENT
DTSTART;TZID=America/Los_Angeles:20240729T173000
DTEND;TZID=America/Los_Angeles:20240729T183000
DTSTAMP:20260419T223719
CREATED:20240726T194428Z
LAST-MODIFIED:20240726T194658Z
UID:5747-1722274200-1722277800@www.bryantschool.org
SUMMARY:Bryant New Family Summer Playdate
DESCRIPTION:Bryant New Family Summer Play date\n\n\nJoin us! @Bryant school yard\n\n\nMeet new friends and enjoy a cool treat!\n• Monday\, July 29 5:30-6:30pm\n• Wednesday\, Aug 21 5:30-6:30pm\n• Sunday\, Sept. 8 1:00-2:30pm
URL:https://www.bryantschool.org/event/summer-new-family-playdate-20240729/
LOCATION:Bryant School Yard
CATEGORIES:PSTA Events
END:VEVENT
END:VCALENDAR