BEGIN:VCALENDAR
VERSION:2.0
PRODID:-//Bryant PTSA - ECPv6.15.20//NONSGML v1.0//EN
CALSCALE:GREGORIAN
METHOD:PUBLISH
X-WR-CALNAME:Bryant PTSA
X-ORIGINAL-URL:https://www.bryantschool.org
X-WR-CALDESC:Events for Bryant PTSA
REFRESH-INTERVAL;VALUE=DURATION:PT1H
X-Robots-Tag:noindex
X-PUBLISHED-TTL:PT1H
BEGIN:VTIMEZONE
TZID:America/Los_Angeles
BEGIN:DAYLIGHT
TZOFFSETFROM:-0800
TZOFFSETTO:-0700
TZNAME:PDT
DTSTART:20240310T100000
END:DAYLIGHT
BEGIN:STANDARD
TZOFFSETFROM:-0700
TZOFFSETTO:-0800
TZNAME:PST
DTSTART:20241103T090000
END:STANDARD
BEGIN:DAYLIGHT
TZOFFSETFROM:-0800
TZOFFSETTO:-0700
TZNAME:PDT
DTSTART:20250309T100000
END:DAYLIGHT
BEGIN:STANDARD
TZOFFSETFROM:-0700
TZOFFSETTO:-0800
TZNAME:PST
DTSTART:20251102T090000
END:STANDARD
BEGIN:DAYLIGHT
TZOFFSETFROM:-0800
TZOFFSETTO:-0700
TZNAME:PDT
DTSTART:20260308T100000
END:DAYLIGHT
BEGIN:STANDARD
TZOFFSETFROM:-0700
TZOFFSETTO:-0800
TZNAME:PST
DTSTART:20261101T090000
END:STANDARD
END:VTIMEZONE
BEGIN:VEVENT
DTSTART;TZID=America/Los_Angeles:20250311T190000
DTEND;TZID=America/Los_Angeles:20250311T203000
DTSTAMP:20260423T024044
CREATED:20240824T053921Z
LAST-MODIFIED:20250305T080525Z
UID:5804-1741719600-1741725000@www.bryantschool.org
SUMMARY:Bryant PTSA General Meeting
DESCRIPTION:All PTSA Members and Bryant families are encouraged to attend General Membership meetings. \nFor more details on this March 11 meeting\, please see https://www.bryantschool.org/news/ptsa-general-meeting-march-11/
URL:https://www.bryantschool.org/event/bryant-ptsa-general-meeting-202503/
LOCATION:Bryant Elementary Library
CATEGORIES:Monthly PTSA Meetings
END:VEVENT
BEGIN:VEVENT
DTSTART;TZID=America/Los_Angeles:20250319T080000
DTEND;TZID=America/Los_Angeles:20250319T170000
DTSTAMP:20260423T024044
CREATED:20250319T073523Z
LAST-MODIFIED:20250319T073533Z
UID:6197-1742371200-1742403600@www.bryantschool.org
SUMMARY:Garden Work Party
DESCRIPTION:Please see https://www.bryantschool.org/news/garden-work-party-3-30/ for more information.
URL:https://www.bryantschool.org/event/garden-work-party-2025/
END:VEVENT
BEGIN:VEVENT
DTSTART;TZID=America/Los_Angeles:20250321T190000
DTEND;TZID=America/Los_Angeles:20250321T190000
DTSTAMP:20260423T024044
CREATED:20250319T074639Z
LAST-MODIFIED:20250319T074639Z
UID:6209-1742583600-1742583600@www.bryantschool.org
SUMMARY:4th & 5th Grade School Play: Willy Wonka Kids
DESCRIPTION:Please see https://www.bryantschool.org/category/ptsa-events/4th-5th-grade-school-play/ for more information.
URL:https://www.bryantschool.org/event/schoolplay_20250321/
LOCATION:Bryant Elementary
END:VEVENT
BEGIN:VEVENT
DTSTART;TZID=America/Los_Angeles:20250322T140000
DTEND;TZID=America/Los_Angeles:20250322T140000
DTSTAMP:20260423T024044
CREATED:20250319T074804Z
LAST-MODIFIED:20250319T074804Z
UID:6211-1742652000-1742652000@www.bryantschool.org
SUMMARY:4th & 5th Grade School Play: Willy Wonka Kids
DESCRIPTION:Please see https://www.bryantschool.org/category/ptsa-events/4th-5th-grade-school-play/ for more information.
URL:https://www.bryantschool.org/event/schoolplay_20250322_matinee/
LOCATION:Bryant Elementary
END:VEVENT
BEGIN:VEVENT
DTSTART;TZID=America/Los_Angeles:20250322T190000
DTEND;TZID=America/Los_Angeles:20250322T190000
DTSTAMP:20260423T024044
CREATED:20250319T074911Z
LAST-MODIFIED:20250319T074911Z
UID:6213-1742670000-1742670000@www.bryantschool.org
SUMMARY:4th & 5th Grade School Play: Willy Wonka Kids
DESCRIPTION:Please see https://www.bryantschool.org/category/ptsa-events/4th-5th-grade-school-play/ for more information.
URL:https://www.bryantschool.org/event/schoolplay_20250322/
LOCATION:Bryant Elementary
END:VEVENT
BEGIN:VEVENT
DTSTART;TZID=America/Los_Angeles:20250323T140000
DTEND;TZID=America/Los_Angeles:20250323T140000
DTSTAMP:20260423T024044
CREATED:20250319T075012Z
LAST-MODIFIED:20250319T075012Z
UID:6215-1742738400-1742738400@www.bryantschool.org
SUMMARY:4th & 5th Grade School Play: Willy Wonka Kids
DESCRIPTION:Please see https://www.bryantschool.org/category/ptsa-events/4th-5th-grade-school-play/ for more information.
URL:https://www.bryantschool.org/event/schoolplay_20250323/
LOCATION:Bryant Elementary
END:VEVENT
BEGIN:VEVENT
DTSTART;VALUE=DATE:20250327
DTEND;VALUE=DATE:20250328
DTSTAMP:20260423T024044
CREATED:20250109T055355Z
LAST-MODIFIED:20250109T055355Z
UID:6032-1743033600-1743119999@www.bryantschool.org
SUMMARY:Student Hunger Service Project - K & 5th Grade
DESCRIPTION:See Student Hunger Service Project | Bryant PTSA for details.
URL:https://www.bryantschool.org/event/student-hunger-service-project-k-5th-grade-2025/
END:VEVENT
BEGIN:VEVENT
DTSTART;TZID=America/Los_Angeles:20250328T080000
DTEND;TZID=America/Los_Angeles:20250404T200000
DTSTAMP:20260423T024044
CREATED:20250114T212359Z
LAST-MODIFIED:20250114T212359Z
UID:6072-1743148800-1743796800@www.bryantschool.org
SUMMARY:Bryant Online Auction
DESCRIPTION:Please see https://www.bryantschool.org/category/ptsa-events/online-auction/ for details.
URL:https://www.bryantschool.org/event/bryant-online-auction-2025/
END:VEVENT
END:VCALENDAR