BEGIN:VCALENDAR
VERSION:2.0
PRODID:-//Bryant PTSA - ECPv6.15.20//NONSGML v1.0//EN
CALSCALE:GREGORIAN
METHOD:PUBLISH
X-WR-CALNAME:Bryant PTSA
X-ORIGINAL-URL:https://www.bryantschool.org
X-WR-CALDESC:Events for Bryant PTSA
REFRESH-INTERVAL;VALUE=DURATION:PT1H
X-Robots-Tag:noindex
X-PUBLISHED-TTL:PT1H
BEGIN:VTIMEZONE
TZID:America/Los_Angeles
BEGIN:DAYLIGHT
TZOFFSETFROM:-0800
TZOFFSETTO:-0700
TZNAME:PDT
DTSTART:20240310T100000
END:DAYLIGHT
BEGIN:STANDARD
TZOFFSETFROM:-0700
TZOFFSETTO:-0800
TZNAME:PST
DTSTART:20241103T090000
END:STANDARD
BEGIN:DAYLIGHT
TZOFFSETFROM:-0800
TZOFFSETTO:-0700
TZNAME:PDT
DTSTART:20250309T100000
END:DAYLIGHT
BEGIN:STANDARD
TZOFFSETFROM:-0700
TZOFFSETTO:-0800
TZNAME:PST
DTSTART:20251102T090000
END:STANDARD
BEGIN:DAYLIGHT
TZOFFSETFROM:-0800
TZOFFSETTO:-0700
TZNAME:PDT
DTSTART:20260308T100000
END:DAYLIGHT
BEGIN:STANDARD
TZOFFSETFROM:-0700
TZOFFSETTO:-0800
TZNAME:PST
DTSTART:20261101T090000
END:STANDARD
END:VTIMEZONE
BEGIN:VEVENT
DTSTART;TZID=America/Los_Angeles:20250328T080000
DTEND;TZID=America/Los_Angeles:20250404T200000
DTSTAMP:20260422T221110
CREATED:20250114T212359Z
LAST-MODIFIED:20250114T212359Z
UID:6072-1743148800-1743796800@www.bryantschool.org
SUMMARY:Bryant Online Auction
DESCRIPTION:Please see https://www.bryantschool.org/category/ptsa-events/online-auction/ for details.
URL:https://www.bryantschool.org/event/bryant-online-auction-2025/
END:VEVENT
BEGIN:VEVENT
DTSTART;TZID=America/Los_Angeles:20250403T180000
DTEND;TZID=America/Los_Angeles:20250403T200000
DTSTAMP:20260422T221110
CREATED:20240905T062549Z
LAST-MODIFIED:20250114T212218Z
UID:5864-1743703200-1743710400@www.bryantschool.org
SUMMARY:Family Art Night
DESCRIPTION:Details TBA
URL:https://www.bryantschool.org/event/family-art-night-2025/
CATEGORIES:PSTA Events
END:VEVENT
BEGIN:VEVENT
DTSTART;VALUE=DATE:20250408
DTEND;VALUE=DATE:20250409
DTSTAMP:20260422T221110
CREATED:20240824T053702Z
LAST-MODIFIED:20240824T053702Z
UID:5800-1744070400-1744156799@www.bryantschool.org
SUMMARY:Bryant PTSA Board Business Meeting
DESCRIPTION:
URL:https://www.bryantschool.org/event/bryant-ptsa-board-business-meeting-202504/
CATEGORIES:Monthly PTSA Meetings
END:VEVENT
BEGIN:VEVENT
DTSTART;VALUE=DATE:20250414
DTEND;VALUE=DATE:20250419
DTSTAMP:20260422T221110
CREATED:20240824T050415Z
LAST-MODIFIED:20240824T050415Z
UID:5774-1744588800-1745020799@www.bryantschool.org
SUMMARY:Spring break (no school)
DESCRIPTION:
URL:https://www.bryantschool.org/event/spring-break-2024/
CATEGORIES:No School
END:VEVENT
END:VCALENDAR