BEGIN:VCALENDAR
VERSION:2.0
PRODID:-//Bryant PTSA - ECPv6.15.20//NONSGML v1.0//EN
CALSCALE:GREGORIAN
METHOD:PUBLISH
X-WR-CALNAME:Bryant PTSA
X-ORIGINAL-URL:https://www.bryantschool.org
X-WR-CALDESC:Events for Bryant PTSA
REFRESH-INTERVAL;VALUE=DURATION:PT1H
X-Robots-Tag:noindex
X-PUBLISHED-TTL:PT1H
BEGIN:VTIMEZONE
TZID:America/Los_Angeles
BEGIN:DAYLIGHT
TZOFFSETFROM:-0800
TZOFFSETTO:-0700
TZNAME:PDT
DTSTART:20240310T100000
END:DAYLIGHT
BEGIN:STANDARD
TZOFFSETFROM:-0700
TZOFFSETTO:-0800
TZNAME:PST
DTSTART:20241103T090000
END:STANDARD
BEGIN:DAYLIGHT
TZOFFSETFROM:-0800
TZOFFSETTO:-0700
TZNAME:PDT
DTSTART:20250309T100000
END:DAYLIGHT
BEGIN:STANDARD
TZOFFSETFROM:-0700
TZOFFSETTO:-0800
TZNAME:PST
DTSTART:20251102T090000
END:STANDARD
BEGIN:DAYLIGHT
TZOFFSETFROM:-0800
TZOFFSETTO:-0700
TZNAME:PDT
DTSTART:20260308T100000
END:DAYLIGHT
BEGIN:STANDARD
TZOFFSETFROM:-0700
TZOFFSETTO:-0800
TZNAME:PST
DTSTART:20261101T090000
END:STANDARD
END:VTIMEZONE
BEGIN:VEVENT
DTSTART;VALUE=DATE:20250503
DTEND;VALUE=DATE:20250504
DTSTAMP:20260422T172710
CREATED:20240905T062628Z
LAST-MODIFIED:20240905T062628Z
UID:5866-1746230400-1746316799@www.bryantschool.org
SUMMARY:Bryant Blast Carnival
DESCRIPTION:
URL:https://www.bryantschool.org/event/bryant-blast-carnival-2025/
CATEGORIES:PSTA Events
END:VEVENT
BEGIN:VEVENT
DTSTART;VALUE=DATE:20250505
DTEND;VALUE=DATE:20250510
DTSTAMP:20260422T172710
CREATED:20240905T062751Z
LAST-MODIFIED:20240905T062751Z
UID:5872-1746403200-1746835199@www.bryantschool.org
SUMMARY:Teacher/Staff Appreciation Week
DESCRIPTION:
URL:https://www.bryantschool.org/event/teacher-staff-appreciation-week-2025/
END:VEVENT
BEGIN:VEVENT
DTSTART;VALUE=DATE:20250506
DTEND;VALUE=DATE:20250507
DTSTAMP:20260422T172710
CREATED:20240905T062658Z
LAST-MODIFIED:20240905T062658Z
UID:5868-1746489600-1746575999@www.bryantschool.org
SUMMARY:Class/Group Pictures
DESCRIPTION:
URL:https://www.bryantschool.org/event/class-group-pictures-2025/
END:VEVENT
BEGIN:VEVENT
DTSTART;TZID=America/Los_Angeles:20250508T173000
DTEND;TZID=America/Los_Angeles:20250508T193000
DTSTAMP:20260422T172710
CREATED:20250507T051233Z
LAST-MODIFIED:20250507T051313Z
UID:6275-1746725400-1746732600@www.bryantschool.org
SUMMARY:Art committee hangout
DESCRIPTION:Please see https://www.bryantschool.org/news/art-committee-hangout-5-8/ for details
URL:https://www.bryantschool.org/event/art-committee-hangout/
LOCATION:Project 9 Brewing Company\, 1409 NE 80th St
END:VEVENT
BEGIN:VEVENT
DTSTART;VALUE=DATE:20250513
DTEND;VALUE=DATE:20250514
DTSTAMP:20260422T172710
CREATED:20240824T053731Z
LAST-MODIFIED:20240824T053731Z
UID:5802-1747094400-1747180799@www.bryantschool.org
SUMMARY:Bryant PTSA Board Business Meeting
DESCRIPTION:
URL:https://www.bryantschool.org/event/bryant-ptsa-board-business-meeting-202505/
CATEGORIES:Monthly PTSA Meetings
END:VEVENT
BEGIN:VEVENT
DTSTART;TZID=America/Los_Angeles:20250515T183000
DTEND;TZID=America/Los_Angeles:20250515T193000
DTSTAMP:20260422T172710
CREATED:20250311T074624Z
LAST-MODIFIED:20250311T074639Z
UID:6171-1747333800-1747337400@www.bryantschool.org
SUMMARY:Bryant Science Night
DESCRIPTION:Please see https://www.bryantschool.org/category/ptsa-events/k-5-science-night/ for more information.
URL:https://www.bryantschool.org/event/bryant-science-night-2025/
END:VEVENT
BEGIN:VEVENT
DTSTART;VALUE=DATE:20250520
DTEND;VALUE=DATE:20250521
DTSTAMP:20260422T172710
CREATED:20250109T055443Z
LAST-MODIFIED:20250109T055443Z
UID:6034-1747699200-1747785599@www.bryantschool.org
SUMMARY:Student Hunger Service Project - 3rd & 4th Grade
DESCRIPTION:See Student Hunger Service Project | Bryant PTSA for details.
URL:https://www.bryantschool.org/event/student-hunger-service-project-3rd-4th-grade/
END:VEVENT
BEGIN:VEVENT
DTSTART;VALUE=DATE:20250522
DTEND;VALUE=DATE:20250523
DTSTAMP:20260422T172710
CREATED:20250114T212601Z
LAST-MODIFIED:20250114T212601Z
UID:6074-1747872000-1747958399@www.bryantschool.org
SUMMARY:Writers Celebration
DESCRIPTION:Please see https://www.bryantschool.org/category/ptsa-events/writers-celebration/ for updates.
URL:https://www.bryantschool.org/event/writers-celebration-2025/
END:VEVENT
BEGIN:VEVENT
DTSTART;VALUE=DATE:20250526
DTEND;VALUE=DATE:20250527
DTSTAMP:20260422T172710
CREATED:20240824T050451Z
LAST-MODIFIED:20240824T050451Z
UID:5776-1748217600-1748303999@www.bryantschool.org
SUMMARY:Memorial Day (no school)
DESCRIPTION:
URL:https://www.bryantschool.org/event/memorial-day-no-school-2025/
CATEGORIES:No School
END:VEVENT
BEGIN:VEVENT
DTSTART;TZID=America/Los_Angeles:20250530T180000
DTEND;TZID=America/Los_Angeles:20250530T190000
DTSTAMP:20260422T172710
CREATED:20250520T072043Z
LAST-MODIFIED:20250520T072043Z
UID:6296-1748628000-1748631600@www.bryantschool.org
SUMMARY:Bryant Obstacles & Popsicles
DESCRIPTION:For more information\, please see https://www.bryantschool.org/category/extracurricular/bike-to-bryant/
URL:https://www.bryantschool.org/event/bryant-obstacles-popsicles/
END:VEVENT
END:VCALENDAR