BEGIN:VCALENDAR
VERSION:2.0
PRODID:-//Bryant PTSA - ECPv6.15.20//NONSGML v1.0//EN
CALSCALE:GREGORIAN
METHOD:PUBLISH
X-ORIGINAL-URL:https://www.bryantschool.org
X-WR-CALDESC:Events for Bryant PTSA
REFRESH-INTERVAL;VALUE=DURATION:PT1H
X-Robots-Tag:noindex
X-PUBLISHED-TTL:PT1H
BEGIN:VTIMEZONE
TZID:America/Los_Angeles
BEGIN:DAYLIGHT
TZOFFSETFROM:-0800
TZOFFSETTO:-0700
TZNAME:PDT
DTSTART:20240310T100000
END:DAYLIGHT
BEGIN:STANDARD
TZOFFSETFROM:-0700
TZOFFSETTO:-0800
TZNAME:PST
DTSTART:20241103T090000
END:STANDARD
BEGIN:DAYLIGHT
TZOFFSETFROM:-0800
TZOFFSETTO:-0700
TZNAME:PDT
DTSTART:20250309T100000
END:DAYLIGHT
BEGIN:STANDARD
TZOFFSETFROM:-0700
TZOFFSETTO:-0800
TZNAME:PST
DTSTART:20251102T090000
END:STANDARD
BEGIN:DAYLIGHT
TZOFFSETFROM:-0800
TZOFFSETTO:-0700
TZNAME:PDT
DTSTART:20260308T100000
END:DAYLIGHT
BEGIN:STANDARD
TZOFFSETFROM:-0700
TZOFFSETTO:-0800
TZNAME:PST
DTSTART:20261101T090000
END:STANDARD
BEGIN:DAYLIGHT
TZOFFSETFROM:-0800
TZOFFSETTO:-0700
TZNAME:PDT
DTSTART:20270314T100000
END:DAYLIGHT
BEGIN:STANDARD
TZOFFSETFROM:-0700
TZOFFSETTO:-0800
TZNAME:PST
DTSTART:20271107T090000
END:STANDARD
END:VTIMEZONE
BEGIN:VEVENT
DTSTART;TZID=America/Los_Angeles:20251206T090000
DTEND;TZID=America/Los_Angeles:20251206T150000
DTSTAMP:20260420T190326
CREATED:20251106T073628Z
LAST-MODIFIED:20251106T073628Z
UID:6586-1765011600-1765033200@www.bryantschool.org
SUMMARY:Bryant Fall Classic 2025 chess tournament
DESCRIPTION:See https://www.bryantschool.org/news/bryant-classic-chess-tournament-2025/ for details\, including registration information. \n 
URL:https://www.bryantschool.org/event/bryant-fall-classic-2025-chess-tournament/
END:VEVENT
BEGIN:VEVENT
DTSTART;VALUE=DATE:20251209
DTEND;VALUE=DATE:20251210
DTSTAMP:20260420T190326
CREATED:20250907T071345Z
LAST-MODIFIED:20250907T071345Z
UID:6422-1765238400-1765324799@www.bryantschool.org
SUMMARY:Reflections Showcase
DESCRIPTION:
URL:https://www.bryantschool.org/event/reflections-showcase-2025/
END:VEVENT
BEGIN:VEVENT
DTSTART;TZID=America/Los_Angeles:20251209T181500
DTEND;TZID=America/Los_Angeles:20251209T181500
DTSTAMP:20260420T190326
CREATED:20251106T074138Z
LAST-MODIFIED:20251106T074138Z
UID:6590-1765304100-1765304100@www.bryantschool.org
SUMMARY:2026 Bryant School Play - mandatory Parent/Guardian meeting
DESCRIPTION:Please see https://www.bryantschool.org/category/ptsa-events/4th-5th-grade-school-play/ for more information.
URL:https://www.bryantschool.org/event/2026-bryant-school-play-mandatory-parent-guardian-meeting/
END:VEVENT
BEGIN:VEVENT
DTSTART;VALUE=DATE:20251219
DTEND;VALUE=DATE:20251220
DTSTAMP:20260420T190326
CREATED:20250901T044958Z
LAST-MODIFIED:20250901T044958Z
UID:6389-1766102400-1766188799@www.bryantschool.org
SUMMARY:1-hour early dismissal
DESCRIPTION:
URL:https://www.bryantschool.org/event/1-hour-early-dismissal-2025-12/
END:VEVENT
BEGIN:VEVENT
DTSTART;VALUE=DATE:20251222
DTEND;VALUE=DATE:20260103
DTSTAMP:20260420T190326
CREATED:20250901T045039Z
LAST-MODIFIED:20250901T045039Z
UID:6391-1766361600-1767398399@www.bryantschool.org
SUMMARY:Winter Break - No School
DESCRIPTION:
URL:https://www.bryantschool.org/event/winter-break-2025-26/
END:VEVENT
END:VCALENDAR