BEGIN:VCALENDAR
VERSION:2.0
PRODID:-//Bryant PTSA - ECPv6.15.20//NONSGML v1.0//EN
CALSCALE:GREGORIAN
METHOD:PUBLISH
X-WR-CALNAME:Bryant PTSA
X-ORIGINAL-URL:https://www.bryantschool.org
X-WR-CALDESC:Events for Bryant PTSA
REFRESH-INTERVAL;VALUE=DURATION:PT1H
X-Robots-Tag:noindex
X-PUBLISHED-TTL:PT1H
BEGIN:VTIMEZONE
TZID:America/Los_Angeles
BEGIN:DAYLIGHT
TZOFFSETFROM:-0800
TZOFFSETTO:-0700
TZNAME:PDT
DTSTART:20250309T100000
END:DAYLIGHT
BEGIN:STANDARD
TZOFFSETFROM:-0700
TZOFFSETTO:-0800
TZNAME:PST
DTSTART:20251102T090000
END:STANDARD
BEGIN:DAYLIGHT
TZOFFSETFROM:-0800
TZOFFSETTO:-0700
TZNAME:PDT
DTSTART:20260308T100000
END:DAYLIGHT
BEGIN:STANDARD
TZOFFSETFROM:-0700
TZOFFSETTO:-0800
TZNAME:PST
DTSTART:20261101T090000
END:STANDARD
BEGIN:DAYLIGHT
TZOFFSETFROM:-0800
TZOFFSETTO:-0700
TZNAME:PDT
DTSTART:20270314T100000
END:DAYLIGHT
BEGIN:STANDARD
TZOFFSETFROM:-0700
TZOFFSETTO:-0800
TZNAME:PST
DTSTART:20271107T090000
END:STANDARD
END:VTIMEZONE
BEGIN:VEVENT
DTSTART;TZID=America/Los_Angeles:20260310T190000
DTEND;TZID=America/Los_Angeles:20260310T190000
DTSTAMP:20260420T025710
CREATED:20260114T063015Z
LAST-MODIFIED:20260114T063015Z
UID:6656-1773169200-1773169200@www.bryantschool.org
SUMMARY:Monthly PTSA Meeting
DESCRIPTION:https://www.bryantschool.org/category/ptsa-events/monthly-meetings/ \nGeneral Membership Meeting. All PTSA Members and Bryant families are encouraged to attend. Agenda includes items of general interest.
URL:https://www.bryantschool.org/event/monthly-ptsa-meeting-mar2026/
END:VEVENT
BEGIN:VEVENT
DTSTART;VALUE=DATE:20260327
DTEND;VALUE=DATE:20260404
DTSTAMP:20260420T025710
CREATED:20260126T105644Z
LAST-MODIFIED:20260126T105644Z
UID:6682-1774569600-1775260799@www.bryantschool.org
SUMMARY:Bryant Online Auction
DESCRIPTION:Please see https://www.bryantschool.org/category/ptsa-events/online-auction/ for more information.
URL:https://www.bryantschool.org/event/bryant-online-auction/
END:VEVENT
BEGIN:VEVENT
DTSTART;TZID=America/Los_Angeles:20260327T190000
DTEND;TZID=America/Los_Angeles:20260327T190000
DTSTAMP:20260420T025710
CREATED:20260325T052011Z
LAST-MODIFIED:20260325T052011Z
UID:6766-1774638000-1774638000@www.bryantschool.org
SUMMARY:Bryant Play - Shrek the Musical\, Swamp Cast
DESCRIPTION:For more information\, please see https://www.bryantschool.org/category/ptsa-events/4th-5th-grade-school-play/. 
URL:https://www.bryantschool.org/event/bryant-play-swamp-cast-mar27/
END:VEVENT
BEGIN:VEVENT
DTSTART;TZID=America/Los_Angeles:20260328T140000
DTEND;TZID=America/Los_Angeles:20260328T140000
DTSTAMP:20260420T025710
CREATED:20260325T052120Z
LAST-MODIFIED:20260325T052120Z
UID:6768-1774706400-1774706400@www.bryantschool.org
SUMMARY:Bryant Play - Shrek the Musical\, Swamp Cast
DESCRIPTION:For more information\, please see https://www.bryantschool.org/category/ptsa-events/4th-5th-grade-school-play/. 
URL:https://www.bryantschool.org/event/bryant-play-swamp-cast-mar28/
END:VEVENT
BEGIN:VEVENT
DTSTART;TZID=America/Los_Angeles:20260328T190000
DTEND;TZID=America/Los_Angeles:20260328T190000
DTSTAMP:20260420T025710
CREATED:20260325T052221Z
LAST-MODIFIED:20260325T052221Z
UID:6770-1774724400-1774724400@www.bryantschool.org
SUMMARY:Bryant Play - Shrek the Musical\, Bog Cast
DESCRIPTION:For more information\, please see https://www.bryantschool.org/category/ptsa-events/4th-5th-grade-school-play/.  \n 
URL:https://www.bryantschool.org/event/bryant-play-bog-cast-mar28/
END:VEVENT
BEGIN:VEVENT
DTSTART;TZID=America/Los_Angeles:20260329T140000
DTEND;TZID=America/Los_Angeles:20260329T140000
DTSTAMP:20260420T025710
CREATED:20260325T052307Z
LAST-MODIFIED:20260325T052307Z
UID:6772-1774792800-1774792800@www.bryantschool.org
SUMMARY:Bryant Play - Shrek the Musical\, Bog Cast
DESCRIPTION:For more information\, please see https://www.bryantschool.org/category/ptsa-events/4th-5th-grade-school-play/.  \n 
URL:https://www.bryantschool.org/event/bryant-play-bog-cast-mar29/
END:VEVENT
BEGIN:VEVENT
DTSTART;TZID=America/Los_Angeles:20260331T180000
DTEND;TZID=America/Los_Angeles:20260331T200000
DTSTAMP:20260420T025710
CREATED:20250907T071605Z
LAST-MODIFIED:20260310T045952Z
UID:6428-1774980000-1774987200@www.bryantschool.org
SUMMARY:Family Art Night
DESCRIPTION:See https://www.bryantschool.org/category/ptsa-events/arts-night/ for more information.
URL:https://www.bryantschool.org/event/family-art-night-2026/
END:VEVENT
END:VCALENDAR