BEGIN:VCALENDAR
VERSION:2.0
PRODID:-//Bryant PTSA - ECPv6.15.20//NONSGML v1.0//EN
CALSCALE:GREGORIAN
METHOD:PUBLISH
X-ORIGINAL-URL:https://www.bryantschool.org
X-WR-CALDESC:Events for Bryant PTSA
REFRESH-INTERVAL;VALUE=DURATION:PT1H
X-Robots-Tag:noindex
X-PUBLISHED-TTL:PT1H
BEGIN:VTIMEZONE
TZID:America/Los_Angeles
BEGIN:DAYLIGHT
TZOFFSETFROM:-0800
TZOFFSETTO:-0700
TZNAME:PDT
DTSTART:20250309T100000
END:DAYLIGHT
BEGIN:STANDARD
TZOFFSETFROM:-0700
TZOFFSETTO:-0800
TZNAME:PST
DTSTART:20251102T090000
END:STANDARD
BEGIN:DAYLIGHT
TZOFFSETFROM:-0800
TZOFFSETTO:-0700
TZNAME:PDT
DTSTART:20260308T100000
END:DAYLIGHT
BEGIN:STANDARD
TZOFFSETFROM:-0700
TZOFFSETTO:-0800
TZNAME:PST
DTSTART:20261101T090000
END:STANDARD
BEGIN:DAYLIGHT
TZOFFSETFROM:-0800
TZOFFSETTO:-0700
TZNAME:PDT
DTSTART:20270314T100000
END:DAYLIGHT
BEGIN:STANDARD
TZOFFSETFROM:-0700
TZOFFSETTO:-0800
TZNAME:PST
DTSTART:20271107T090000
END:STANDARD
END:VTIMEZONE
BEGIN:VEVENT
DTSTART;VALUE=DATE:20260501
DTEND;VALUE=DATE:20260601
DTSTAMP:20260420T084145
CREATED:20250907T071725Z
LAST-MODIFIED:20250907T071725Z
UID:6432-1777593600-1780271999@www.bryantschool.org
SUMMARY:Bike to School Month
DESCRIPTION:
URL:https://www.bryantschool.org/event/bike-to-school-month-2026/
END:VEVENT
BEGIN:VEVENT
DTSTART;VALUE=DATE:20260502
DTEND;VALUE=DATE:20260503
DTSTAMP:20260420T084145
CREATED:20250907T071756Z
LAST-MODIFIED:20250907T071756Z
UID:6434-1777680000-1777766399@www.bryantschool.org
SUMMARY:Bryant Blast Carnival
DESCRIPTION:
URL:https://www.bryantschool.org/event/bryant-blast-carnival-2026/
END:VEVENT
BEGIN:VEVENT
DTSTART;VALUE=DATE:20260505
DTEND;VALUE=DATE:20260506
DTSTAMP:20260420T084145
CREATED:20250907T071819Z
LAST-MODIFIED:20250907T071819Z
UID:6436-1777939200-1778025599@www.bryantschool.org
SUMMARY:Class/Group Pictures
DESCRIPTION:
URL:https://www.bryantschool.org/event/class-group-pictures-2026/
END:VEVENT
BEGIN:VEVENT
DTSTART;TZID=America/Los_Angeles:20260512T190000
DTEND;TZID=America/Los_Angeles:20260512T190000
DTSTAMP:20260420T084145
CREATED:20260114T063200Z
LAST-MODIFIED:20260114T063200Z
UID:6660-1778612400-1778612400@www.bryantschool.org
SUMMARY:Monthly PTSA Meeting
DESCRIPTION:https://www.bryantschool.org/category/ptsa-events/monthly-meetings/
URL:https://www.bryantschool.org/event/monthly-ptsa-meeting-may2026/
END:VEVENT
BEGIN:VEVENT
DTSTART;VALUE=DATE:20260521
DTEND;VALUE=DATE:20260522
DTSTAMP:20260420T084145
CREATED:20250907T071847Z
LAST-MODIFIED:20250907T071847Z
UID:6438-1779321600-1779407999@www.bryantschool.org
SUMMARY:Writers' Celebration
DESCRIPTION:
URL:https://www.bryantschool.org/event/writers-celebration-2026/
END:VEVENT
BEGIN:VEVENT
DTSTART;VALUE=DATE:20260525
DTEND;VALUE=DATE:20260526
DTSTAMP:20260420T084145
CREATED:20250901T045318Z
LAST-MODIFIED:20250901T045318Z
UID:6399-1779667200-1779753599@www.bryantschool.org
SUMMARY:Memorial Day - No School
DESCRIPTION:
URL:https://www.bryantschool.org/event/memorial-day-2026/
END:VEVENT
BEGIN:VEVENT
DTSTART;VALUE=DATE:20260528
DTEND;VALUE=DATE:20260529
DTSTAMP:20260420T084145
CREATED:20260110T081938Z
LAST-MODIFIED:20260110T081938Z
UID:6648-1779926400-1780012799@www.bryantschool.org
SUMMARY:Bryant's 2026 Student Hunger Service Project - 3rd & 4th Grade
DESCRIPTION:Please see https://www.bryantschool.org/category/extracurricular/student-hunger-service-project/ for more information
URL:https://www.bryantschool.org/event/bryants-2026-student-hunger-service-project-3rd-4th-grade/
END:VEVENT
END:VCALENDAR